BEGIN:VCALENDAR
VERSION:2.0
PRODID:https://www.kufer.de/kuferweb / DE
METHOD:PUBLISH
CALSCALE:GREGORIAN
X-WR-TIMEZONE:Europe/Berlin
BEGIN:VTIMEZONE
TZID:Europe/Berlin
X-LIC-LOCATION:Europe/Berlin
BEGIN:DAYLIGHT
TZOFFSETFROM:+0100
TZOFFSETTO:+0200
TZNAME:CEST
DTSTART:19700329T020000
RRULE:FREQ=YEARLY;INTERVAL=1;BYDAY=-1SU;BYMONTH=3
END:DAYLIGHT
BEGIN:STANDARD
TZOFFSETFROM:+0200
TZOFFSETTO:+0100
TZNAME:CET
DTSTART:19701025T030000
RRULE:FREQ=YEARLY;INTERVAL=1;BYDAY=-1SU;BYMONTH=10
END:STANDARD
END:VTIMEZONE
BEGIN:VEVENT
DTSTAMP:20260421T170012
DTSTART;TZID=Europe/Berlin:20260916T180000
DTEND;TZID=Europe/Berlin:20260916T194500
UID:U42018-EEB-20260916T180000@EFBOLDENBURG
SUMMARY:Entspanntes Malen am Abend (U42018-EEB) 
LOCATION:Ev. Familien-Bildungsstätte, Werkraum,  Gorch-Fock-Str. 5 a, 26135 Oldenburg
END:VEVENT
BEGIN:VEVENT
DTSTAMP:20260421T170012
DTSTART;TZID=Europe/Berlin:20260923T180000
DTEND;TZID=Europe/Berlin:20260923T194500
UID:U42018-EEB-20260923T180000@EFBOLDENBURG
SUMMARY:Entspanntes Malen am Abend (U42018-EEB) 
LOCATION:Ev. Familien-Bildungsstätte, Werkraum,  Gorch-Fock-Str. 5 a, 26135 Oldenburg
END:VEVENT
BEGIN:VEVENT
DTSTAMP:20260421T170012
DTSTART;TZID=Europe/Berlin:20260930T180000
DTEND;TZID=Europe/Berlin:20260930T194500
UID:U42018-EEB-20260930T180000@EFBOLDENBURG
SUMMARY:Entspanntes Malen am Abend (U42018-EEB) 
LOCATION:Ev. Familien-Bildungsstätte, Werkraum,  Gorch-Fock-Str. 5 a, 26135 Oldenburg
END:VEVENT
BEGIN:VEVENT
DTSTAMP:20260421T170012
DTSTART;TZID=Europe/Berlin:20261007T180000
DTEND;TZID=Europe/Berlin:20261007T194500
UID:U42018-EEB-20261007T180000@EFBOLDENBURG
SUMMARY:Entspanntes Malen am Abend (U42018-EEB) 
LOCATION:Ev. Familien-Bildungsstätte, Werkraum,  Gorch-Fock-Str. 5 a, 26135 Oldenburg
END:VEVENT
BEGIN:VEVENT
DTSTAMP:20260421T170012
DTSTART;TZID=Europe/Berlin:20261028T180000
DTEND;TZID=Europe/Berlin:20261028T194500
UID:U42018-EEB-20261028T180000@EFBOLDENBURG
SUMMARY:Entspanntes Malen am Abend (U42018-EEB) 
LOCATION:Ev. Familien-Bildungsstätte, Werkraum,  Gorch-Fock-Str. 5 a, 26135 Oldenburg
END:VEVENT
BEGIN:VEVENT
DTSTAMP:20260421T170012
DTSTART;TZID=Europe/Berlin:20261104T180000
DTEND;TZID=Europe/Berlin:20261104T194500
UID:U42018-EEB-20261104T180000@EFBOLDENBURG
SUMMARY:Entspanntes Malen am Abend (U42018-EEB) 
LOCATION:Ev. Familien-Bildungsstätte, Werkraum,  Gorch-Fock-Str. 5 a, 26135 Oldenburg
END:VEVENT
BEGIN:VEVENT
DTSTAMP:20260421T170012
DTSTART;TZID=Europe/Berlin:20261111T180000
DTEND;TZID=Europe/Berlin:20261111T194500
UID:U42018-EEB-20261111T180000@EFBOLDENBURG
SUMMARY:Entspanntes Malen am Abend (U42018-EEB) 
LOCATION:Ev. Familien-Bildungsstätte, Werkraum,  Gorch-Fock-Str. 5 a, 26135 Oldenburg
END:VEVENT
BEGIN:VEVENT
DTSTAMP:20260421T170012
DTSTART;TZID=Europe/Berlin:20261118T180000
DTEND;TZID=Europe/Berlin:20261118T194500
UID:U42018-EEB-20261118T180000@EFBOLDENBURG
SUMMARY:Entspanntes Malen am Abend (U42018-EEB) 
LOCATION:Ev. Familien-Bildungsstätte, Werkraum,  Gorch-Fock-Str. 5 a, 26135 Oldenburg
END:VEVENT
BEGIN:VEVENT
DTSTAMP:20260421T170012
DTSTART;TZID=Europe/Berlin:20261125T180000
DTEND;TZID=Europe/Berlin:20261125T194500
UID:U42018-EEB-20261125T180000@EFBOLDENBURG
SUMMARY:Entspanntes Malen am Abend (U42018-EEB) 
LOCATION:Ev. Familien-Bildungsstätte, Werkraum,  Gorch-Fock-Str. 5 a, 26135 Oldenburg
END:VEVENT
BEGIN:VEVENT
DTSTAMP:20260421T170012
DTSTART;TZID=Europe/Berlin:20261202T180000
DTEND;TZID=Europe/Berlin:20261202T194500
UID:U42018-EEB-20261202T180000@EFBOLDENBURG
SUMMARY:Entspanntes Malen am Abend (U42018-EEB) 
LOCATION:Ev. Familien-Bildungsstätte, Werkraum,  Gorch-Fock-Str. 5 a, 26135 Oldenburg
END:VEVENT
END:VCALENDAR