BEGIN:VCALENDAR
VERSION:2.0
PRODID:https://www.kufer.de/kuferweb / DE
METHOD:PUBLISH
CALSCALE:GREGORIAN
X-WR-TIMEZONE:Europe/Berlin
BEGIN:VTIMEZONE
TZID:Europe/Berlin
X-LIC-LOCATION:Europe/Berlin
BEGIN:DAYLIGHT
TZOFFSETFROM:+0100
TZOFFSETTO:+0200
TZNAME:CEST
DTSTART:19700329T020000
RRULE:FREQ=YEARLY;INTERVAL=1;BYDAY=-1SU;BYMONTH=3
END:DAYLIGHT
BEGIN:STANDARD
TZOFFSETFROM:+0200
TZOFFSETTO:+0100
TZNAME:CET
DTSTART:19701025T030000
RRULE:FREQ=YEARLY;INTERVAL=1;BYDAY=-1SU;BYMONTH=10
END:STANDARD
END:VTIMEZONE
BEGIN:VEVENT
DTSTAMP:20260421T165928
DTSTART;TZID=Europe/Berlin:20260212T090000
DTEND;TZID=Europe/Berlin:20260212T110000
UID:U42019-EEB-20260212T090000@EFBOLDENBURG
SUMMARY:Ölmalen am Vormittag (U42019-EEB) 
LOCATION:Ev. Familien-Bildungsstätte, Werkraum,  Gorch-Fock-Str. 5 a, 26135 Oldenburg
END:VEVENT
BEGIN:VEVENT
DTSTAMP:20260421T165928
DTSTART;TZID=Europe/Berlin:20260219T090000
DTEND;TZID=Europe/Berlin:20260219T110000
UID:U42019-EEB-20260219T090000@EFBOLDENBURG
SUMMARY:Ölmalen am Vormittag (U42019-EEB) 
LOCATION:Ev. Familien-Bildungsstätte, Werkraum,  Gorch-Fock-Str. 5 a, 26135 Oldenburg
END:VEVENT
BEGIN:VEVENT
DTSTAMP:20260421T165928
DTSTART;TZID=Europe/Berlin:20260226T090000
DTEND;TZID=Europe/Berlin:20260226T110000
UID:U42019-EEB-20260226T090000@EFBOLDENBURG
SUMMARY:Ölmalen am Vormittag (U42019-EEB) 
LOCATION:Ev. Familien-Bildungsstätte, Werkraum,  Gorch-Fock-Str. 5 a, 26135 Oldenburg
END:VEVENT
BEGIN:VEVENT
DTSTAMP:20260421T165928
DTSTART;TZID=Europe/Berlin:20260305T090000
DTEND;TZID=Europe/Berlin:20260305T110000
UID:U42019-EEB-20260305T090000@EFBOLDENBURG
SUMMARY:Ölmalen am Vormittag (U42019-EEB) 
LOCATION:Ev. Familien-Bildungsstätte, Werkraum,  Gorch-Fock-Str. 5 a, 26135 Oldenburg
END:VEVENT
BEGIN:VEVENT
DTSTAMP:20260421T165928
DTSTART;TZID=Europe/Berlin:20260312T090000
DTEND;TZID=Europe/Berlin:20260312T110000
UID:U42019-EEB-20260312T090000@EFBOLDENBURG
SUMMARY:Ölmalen am Vormittag (U42019-EEB) 
LOCATION:Ev. Familien-Bildungsstätte, Werkraum,  Gorch-Fock-Str. 5 a, 26135 Oldenburg
END:VEVENT
BEGIN:VEVENT
DTSTAMP:20260421T165928
DTSTART;TZID=Europe/Berlin:20260319T090000
DTEND;TZID=Europe/Berlin:20260319T110000
UID:U42019-EEB-20260319T090000@EFBOLDENBURG
SUMMARY:Ölmalen am Vormittag (U42019-EEB) 
LOCATION:Ev. Familien-Bildungsstätte, Werkraum,  Gorch-Fock-Str. 5 a, 26135 Oldenburg
END:VEVENT
BEGIN:VEVENT
DTSTAMP:20260421T165928
DTSTART;TZID=Europe/Berlin:20260409T090000
DTEND;TZID=Europe/Berlin:20260409T110000
UID:U42019-EEB-20260409T090000@EFBOLDENBURG
SUMMARY:Ölmalen am Vormittag (U42019-EEB) 
LOCATION:Ev. Familien-Bildungsstätte, Werkraum,  Gorch-Fock-Str. 5 a, 26135 Oldenburg
END:VEVENT
BEGIN:VEVENT
DTSTAMP:20260421T165928
DTSTART;TZID=Europe/Berlin:20260416T090000
DTEND;TZID=Europe/Berlin:20260416T110000
UID:U42019-EEB-20260416T090000@EFBOLDENBURG
SUMMARY:Ölmalen am Vormittag (U42019-EEB) 
LOCATION:Ev. Familien-Bildungsstätte, Werkraum,  Gorch-Fock-Str. 5 a, 26135 Oldenburg
END:VEVENT
BEGIN:VEVENT
DTSTAMP:20260421T165928
DTSTART;TZID=Europe/Berlin:20260423T090000
DTEND;TZID=Europe/Berlin:20260423T110000
UID:U42019-EEB-20260423T090000@EFBOLDENBURG
SUMMARY:Ölmalen am Vormittag (U42019-EEB) 
LOCATION:Ev. Familien-Bildungsstätte, Werkraum,  Gorch-Fock-Str. 5 a, 26135 Oldenburg
END:VEVENT
BEGIN:VEVENT
DTSTAMP:20260421T165928
DTSTART;TZID=Europe/Berlin:20260430T090000
DTEND;TZID=Europe/Berlin:20260430T110000
UID:U42019-EEB-20260430T090000@EFBOLDENBURG
SUMMARY:Ölmalen am Vormittag (U42019-EEB) 
LOCATION:Ev. Familien-Bildungsstätte, Werkraum,  Gorch-Fock-Str. 5 a, 26135 Oldenburg
END:VEVENT
END:VCALENDAR