BEGIN:VCALENDAR
VERSION:2.0
PRODID:https://www.kufer.de/kuferweb / DE
METHOD:PUBLISH
CALSCALE:GREGORIAN
X-WR-TIMEZONE:Europe/Berlin
BEGIN:VTIMEZONE
TZID:Europe/Berlin
X-LIC-LOCATION:Europe/Berlin
BEGIN:DAYLIGHT
TZOFFSETFROM:+0100
TZOFFSETTO:+0200
TZNAME:CEST
DTSTART:19700329T020000
RRULE:FREQ=YEARLY;INTERVAL=1;BYDAY=-1SU;BYMONTH=3
END:DAYLIGHT
BEGIN:STANDARD
TZOFFSETFROM:+0200
TZOFFSETTO:+0100
TZNAME:CET
DTSTART:19701025T030000
RRULE:FREQ=YEARLY;INTERVAL=1;BYDAY=-1SU;BYMONTH=10
END:STANDARD
END:VTIMEZONE
BEGIN:VEVENT
DTSTAMP:20260421T235021
DTSTART;TZID=Europe/Berlin:20260115T193000
DTEND;TZID=Europe/Berlin:20260115T214500
UID:U43001-EEB-20260115T193000@EFBOLDENBURG
SUMMARY:Ich habe Lust zu nähen ... (U43001-EEB) 
LOCATION:Gemeindehaus Eupener Str., Eupener Str. 6, Eupener Str. 6, 26127 Oldenburg
END:VEVENT
BEGIN:VEVENT
DTSTAMP:20260421T235021
DTSTART;TZID=Europe/Berlin:20260122T193000
DTEND;TZID=Europe/Berlin:20260122T214500
UID:U43001-EEB-20260122T193000@EFBOLDENBURG
SUMMARY:Ich habe Lust zu nähen ... (U43001-EEB) 
LOCATION:Gemeindehaus Eupener Str., Eupener Str. 6, Eupener Str. 6, 26127 Oldenburg
END:VEVENT
BEGIN:VEVENT
DTSTAMP:20260421T235021
DTSTART;TZID=Europe/Berlin:20260129T193000
DTEND;TZID=Europe/Berlin:20260129T214500
UID:U43001-EEB-20260129T193000@EFBOLDENBURG
SUMMARY:Ich habe Lust zu nähen ... (U43001-EEB) 
LOCATION:Gemeindehaus Eupener Str., Eupener Str. 6, Eupener Str. 6, 26127 Oldenburg
END:VEVENT
BEGIN:VEVENT
DTSTAMP:20260421T235021
DTSTART;TZID=Europe/Berlin:20260205T193000
DTEND;TZID=Europe/Berlin:20260205T214500
UID:U43001-EEB-20260205T193000@EFBOLDENBURG
SUMMARY:Ich habe Lust zu nähen ... (U43001-EEB) 
LOCATION:Gemeindehaus Eupener Str., Eupener Str. 6, Eupener Str. 6, 26127 Oldenburg
END:VEVENT
BEGIN:VEVENT
DTSTAMP:20260421T235021
DTSTART;TZID=Europe/Berlin:20260212T193000
DTEND;TZID=Europe/Berlin:20260212T214500
UID:U43001-EEB-20260212T193000@EFBOLDENBURG
SUMMARY:Ich habe Lust zu nähen ... (U43001-EEB) 
LOCATION:Gemeindehaus Eupener Str., Eupener Str. 6, Eupener Str. 6, 26127 Oldenburg
END:VEVENT
BEGIN:VEVENT
DTSTAMP:20260421T235021
DTSTART;TZID=Europe/Berlin:20260219T193000
DTEND;TZID=Europe/Berlin:20260219T214500
UID:U43001-EEB-20260219T193000@EFBOLDENBURG
SUMMARY:Ich habe Lust zu nähen ... (U43001-EEB) 
LOCATION:Gemeindehaus Eupener Str., Eupener Str. 6, Eupener Str. 6, 26127 Oldenburg
END:VEVENT
BEGIN:VEVENT
DTSTAMP:20260421T235021
DTSTART;TZID=Europe/Berlin:20260226T193000
DTEND;TZID=Europe/Berlin:20260226T214500
UID:U43001-EEB-20260226T193000@EFBOLDENBURG
SUMMARY:Ich habe Lust zu nähen ... (U43001-EEB) 
LOCATION:Gemeindehaus Eupener Str., Eupener Str. 6, Eupener Str. 6, 26127 Oldenburg
END:VEVENT
BEGIN:VEVENT
DTSTAMP:20260421T235021
DTSTART;TZID=Europe/Berlin:20260305T193000
DTEND;TZID=Europe/Berlin:20260305T214500
UID:U43001-EEB-20260305T193000@EFBOLDENBURG
SUMMARY:Ich habe Lust zu nähen ... (U43001-EEB) 
LOCATION:Gemeindehaus Eupener Str., Eupener Str. 6, Eupener Str. 6, 26127 Oldenburg
END:VEVENT
BEGIN:VEVENT
DTSTAMP:20260421T235021
DTSTART;TZID=Europe/Berlin:20260312T193000
DTEND;TZID=Europe/Berlin:20260312T214500
UID:U43001-EEB-20260312T193000@EFBOLDENBURG
SUMMARY:Ich habe Lust zu nähen ... (U43001-EEB) 
LOCATION:Gemeindehaus Eupener Str., Eupener Str. 6, Eupener Str. 6, 26127 Oldenburg
END:VEVENT
BEGIN:VEVENT
DTSTAMP:20260421T235021
DTSTART;TZID=Europe/Berlin:20260319T193000
DTEND;TZID=Europe/Berlin:20260319T214500
UID:U43001-EEB-20260319T193000@EFBOLDENBURG
SUMMARY:Ich habe Lust zu nähen ... (U43001-EEB) 
LOCATION:Gemeindehaus Eupener Str., Eupener Str. 6, Eupener Str. 6, 26127 Oldenburg
END:VEVENT
BEGIN:VEVENT
DTSTAMP:20260421T235021
DTSTART;TZID=Europe/Berlin:20260409T193000
DTEND;TZID=Europe/Berlin:20260409T214500
UID:U43001-EEB-20260409T193000@EFBOLDENBURG
SUMMARY:Ich habe Lust zu nähen ... (U43001-EEB) 
LOCATION:Gemeindehaus Eupener Str., Eupener Str. 6, Eupener Str. 6, 26127 Oldenburg
END:VEVENT
BEGIN:VEVENT
DTSTAMP:20260421T235021
DTSTART;TZID=Europe/Berlin:20260416T193000
DTEND;TZID=Europe/Berlin:20260416T214500
UID:U43001-EEB-20260416T193000@EFBOLDENBURG
DESCRIPTION:Ersatz für Ausfall am 08.01.2026
SUMMARY:Ich habe Lust zu nähen ... (U43001-EEB) 
LOCATION:Gemeindehaus Eupener Str., Eupener Str. 6, Eupener Str. 6, 26127 Oldenburg
END:VEVENT
END:VCALENDAR