BEGIN:VCALENDAR
VERSION:2.0
PRODID:https://www.kufer.de/kuferweb / DE
METHOD:PUBLISH
CALSCALE:GREGORIAN
X-WR-TIMEZONE:Europe/Berlin
BEGIN:VTIMEZONE
TZID:Europe/Berlin
X-LIC-LOCATION:Europe/Berlin
BEGIN:DAYLIGHT
TZOFFSETFROM:+0100
TZOFFSETTO:+0200
TZNAME:CEST
DTSTART:19700329T020000
RRULE:FREQ=YEARLY;INTERVAL=1;BYDAY=-1SU;BYMONTH=3
END:DAYLIGHT
BEGIN:STANDARD
TZOFFSETFROM:+0200
TZOFFSETTO:+0100
TZNAME:CET
DTSTART:19701025T030000
RRULE:FREQ=YEARLY;INTERVAL=1;BYDAY=-1SU;BYMONTH=10
END:STANDARD
END:VTIMEZONE
BEGIN:VEVENT
DTSTAMP:20260421T201336
DTSTART;TZID=Europe/Berlin:20260917T193000
DTEND;TZID=Europe/Berlin:20260917T214500
UID:U43002-EEB-20260917T193000@EFBOLDENBURG
SUMMARY:Ich habe Lust zu nähen ... (U43002-EEB) 
LOCATION:Gemeindehaus Eupener Str., Eupener Str. 6, Eupener Str. 6, 26127 Oldenburg
END:VEVENT
BEGIN:VEVENT
DTSTAMP:20260421T201336
DTSTART;TZID=Europe/Berlin:20260924T193000
DTEND;TZID=Europe/Berlin:20260924T214500
UID:U43002-EEB-20260924T193000@EFBOLDENBURG
SUMMARY:Ich habe Lust zu nähen ... (U43002-EEB) 
LOCATION:Gemeindehaus Eupener Str., Eupener Str. 6, Eupener Str. 6, 26127 Oldenburg
END:VEVENT
BEGIN:VEVENT
DTSTAMP:20260421T201336
DTSTART;TZID=Europe/Berlin:20261001T193000
DTEND;TZID=Europe/Berlin:20261001T214500
UID:U43002-EEB-20261001T193000@EFBOLDENBURG
SUMMARY:Ich habe Lust zu nähen ... (U43002-EEB) 
LOCATION:Gemeindehaus Eupener Str., Eupener Str. 6, Eupener Str. 6, 26127 Oldenburg
END:VEVENT
BEGIN:VEVENT
DTSTAMP:20260421T201336
DTSTART;TZID=Europe/Berlin:20261008T193000
DTEND;TZID=Europe/Berlin:20261008T214500
UID:U43002-EEB-20261008T193000@EFBOLDENBURG
SUMMARY:Ich habe Lust zu nähen ... (U43002-EEB) 
LOCATION:Gemeindehaus Eupener Str., Eupener Str. 6, Eupener Str. 6, 26127 Oldenburg
END:VEVENT
BEGIN:VEVENT
DTSTAMP:20260421T201336
DTSTART;TZID=Europe/Berlin:20261029T193000
DTEND;TZID=Europe/Berlin:20261029T214500
UID:U43002-EEB-20261029T193000@EFBOLDENBURG
SUMMARY:Ich habe Lust zu nähen ... (U43002-EEB) 
LOCATION:Gemeindehaus Eupener Str., Eupener Str. 6, Eupener Str. 6, 26127 Oldenburg
END:VEVENT
BEGIN:VEVENT
DTSTAMP:20260421T201336
DTSTART;TZID=Europe/Berlin:20261105T193000
DTEND;TZID=Europe/Berlin:20261105T214500
UID:U43002-EEB-20261105T193000@EFBOLDENBURG
SUMMARY:Ich habe Lust zu nähen ... (U43002-EEB) 
LOCATION:Gemeindehaus Eupener Str., Eupener Str. 6, Eupener Str. 6, 26127 Oldenburg
END:VEVENT
BEGIN:VEVENT
DTSTAMP:20260421T201336
DTSTART;TZID=Europe/Berlin:20261112T193000
DTEND;TZID=Europe/Berlin:20261112T214500
UID:U43002-EEB-20261112T193000@EFBOLDENBURG
SUMMARY:Ich habe Lust zu nähen ... (U43002-EEB) 
LOCATION:Gemeindehaus Eupener Str., Eupener Str. 6, Eupener Str. 6, 26127 Oldenburg
END:VEVENT
BEGIN:VEVENT
DTSTAMP:20260421T201336
DTSTART;TZID=Europe/Berlin:20261119T193000
DTEND;TZID=Europe/Berlin:20261119T214500
UID:U43002-EEB-20261119T193000@EFBOLDENBURG
SUMMARY:Ich habe Lust zu nähen ... (U43002-EEB) 
LOCATION:Gemeindehaus Eupener Str., Eupener Str. 6, Eupener Str. 6, 26127 Oldenburg
END:VEVENT
END:VCALENDAR