BEGIN:VCALENDAR
VERSION:2.0
PRODID:https://www.kufer.de/kuferweb / DE
METHOD:PUBLISH
CALSCALE:GREGORIAN
X-WR-TIMEZONE:Europe/Berlin
BEGIN:VTIMEZONE
TZID:Europe/Berlin
X-LIC-LOCATION:Europe/Berlin
BEGIN:DAYLIGHT
TZOFFSETFROM:+0100
TZOFFSETTO:+0200
TZNAME:CEST
DTSTART:19700329T020000
RRULE:FREQ=YEARLY;INTERVAL=1;BYDAY=-1SU;BYMONTH=3
END:DAYLIGHT
BEGIN:STANDARD
TZOFFSETFROM:+0200
TZOFFSETTO:+0100
TZNAME:CET
DTSTART:19701025T030000
RRULE:FREQ=YEARLY;INTERVAL=1;BYDAY=-1SU;BYMONTH=10
END:STANDARD
END:VTIMEZONE
BEGIN:VEVENT
DTSTAMP:20260421T191731
DTSTART;TZID=Europe/Berlin:20260817T194500
DTEND;TZID=Europe/Berlin:20260817T220000
UID:U43004-EEB-20260817T194500@EFBOLDENBURG
SUMMARY:Ich habe Lust zu nähen ... (U43004-EEB) 
LOCATION:Ev. Familien-Bildungsstätte, Nähraum,  Gorch-Fock-Str. 5 a, 26135 Oldenburg
END:VEVENT
BEGIN:VEVENT
DTSTAMP:20260421T191731
DTSTART;TZID=Europe/Berlin:20260824T194500
DTEND;TZID=Europe/Berlin:20260824T220000
UID:U43004-EEB-20260824T194500@EFBOLDENBURG
SUMMARY:Ich habe Lust zu nähen ... (U43004-EEB) 
LOCATION:Ev. Familien-Bildungsstätte, Nähraum,  Gorch-Fock-Str. 5 a, 26135 Oldenburg
END:VEVENT
BEGIN:VEVENT
DTSTAMP:20260421T191731
DTSTART;TZID=Europe/Berlin:20260831T194500
DTEND;TZID=Europe/Berlin:20260831T220000
UID:U43004-EEB-20260831T194500@EFBOLDENBURG
SUMMARY:Ich habe Lust zu nähen ... (U43004-EEB) 
LOCATION:Ev. Familien-Bildungsstätte, Nähraum,  Gorch-Fock-Str. 5 a, 26135 Oldenburg
END:VEVENT
BEGIN:VEVENT
DTSTAMP:20260421T191731
DTSTART;TZID=Europe/Berlin:20260907T194500
DTEND;TZID=Europe/Berlin:20260907T220000
UID:U43004-EEB-20260907T194500@EFBOLDENBURG
SUMMARY:Ich habe Lust zu nähen ... (U43004-EEB) 
LOCATION:Ev. Familien-Bildungsstätte, Nähraum,  Gorch-Fock-Str. 5 a, 26135 Oldenburg
END:VEVENT
BEGIN:VEVENT
DTSTAMP:20260421T191731
DTSTART;TZID=Europe/Berlin:20260914T194500
DTEND;TZID=Europe/Berlin:20260914T220000
UID:U43004-EEB-20260914T194500@EFBOLDENBURG
SUMMARY:Ich habe Lust zu nähen ... (U43004-EEB) 
LOCATION:Ev. Familien-Bildungsstätte, Nähraum,  Gorch-Fock-Str. 5 a, 26135 Oldenburg
END:VEVENT
BEGIN:VEVENT
DTSTAMP:20260421T191731
DTSTART;TZID=Europe/Berlin:20260921T194500
DTEND;TZID=Europe/Berlin:20260921T220000
UID:U43004-EEB-20260921T194500@EFBOLDENBURG
SUMMARY:Ich habe Lust zu nähen ... (U43004-EEB) 
LOCATION:Ev. Familien-Bildungsstätte, Nähraum,  Gorch-Fock-Str. 5 a, 26135 Oldenburg
END:VEVENT
BEGIN:VEVENT
DTSTAMP:20260421T191731
DTSTART;TZID=Europe/Berlin:20260928T194500
DTEND;TZID=Europe/Berlin:20260928T220000
UID:U43004-EEB-20260928T194500@EFBOLDENBURG
SUMMARY:Ich habe Lust zu nähen ... (U43004-EEB) 
LOCATION:Ev. Familien-Bildungsstätte, Nähraum,  Gorch-Fock-Str. 5 a, 26135 Oldenburg
END:VEVENT
BEGIN:VEVENT
DTSTAMP:20260421T191731
DTSTART;TZID=Europe/Berlin:20261005T194500
DTEND;TZID=Europe/Berlin:20261005T220000
UID:U43004-EEB-20261005T194500@EFBOLDENBURG
SUMMARY:Ich habe Lust zu nähen ... (U43004-EEB) 
LOCATION:Ev. Familien-Bildungsstätte, Nähraum,  Gorch-Fock-Str. 5 a, 26135 Oldenburg
END:VEVENT
BEGIN:VEVENT
DTSTAMP:20260421T191731
DTSTART;TZID=Europe/Berlin:20261026T194500
DTEND;TZID=Europe/Berlin:20261026T220000
UID:U43004-EEB-20261026T194500@EFBOLDENBURG
SUMMARY:Ich habe Lust zu nähen ... (U43004-EEB) 
LOCATION:Ev. Familien-Bildungsstätte, Nähraum,  Gorch-Fock-Str. 5 a, 26135 Oldenburg
END:VEVENT
BEGIN:VEVENT
DTSTAMP:20260421T191731
DTSTART;TZID=Europe/Berlin:20261102T194500
DTEND;TZID=Europe/Berlin:20261102T220000
UID:U43004-EEB-20261102T194500@EFBOLDENBURG
SUMMARY:Ich habe Lust zu nähen ... (U43004-EEB) 
LOCATION:Ev. Familien-Bildungsstätte, Nähraum,  Gorch-Fock-Str. 5 a, 26135 Oldenburg
END:VEVENT
BEGIN:VEVENT
DTSTAMP:20260421T191731
DTSTART;TZID=Europe/Berlin:20261109T194500
DTEND;TZID=Europe/Berlin:20261109T220000
UID:U43004-EEB-20261109T194500@EFBOLDENBURG
SUMMARY:Ich habe Lust zu nähen ... (U43004-EEB) 
LOCATION:Ev. Familien-Bildungsstätte, Nähraum,  Gorch-Fock-Str. 5 a, 26135 Oldenburg
END:VEVENT
BEGIN:VEVENT
DTSTAMP:20260421T191731
DTSTART;TZID=Europe/Berlin:20261116T194500
DTEND;TZID=Europe/Berlin:20261116T220000
UID:U43004-EEB-20261116T194500@EFBOLDENBURG
SUMMARY:Ich habe Lust zu nähen ... (U43004-EEB) 
LOCATION:Ev. Familien-Bildungsstätte, Nähraum,  Gorch-Fock-Str. 5 a, 26135 Oldenburg
END:VEVENT
BEGIN:VEVENT
DTSTAMP:20260421T191731
DTSTART;TZID=Europe/Berlin:20261123T194500
DTEND;TZID=Europe/Berlin:20261123T220000
UID:U43004-EEB-20261123T194500@EFBOLDENBURG
SUMMARY:Ich habe Lust zu nähen ... (U43004-EEB) 
LOCATION:Ev. Familien-Bildungsstätte, Nähraum,  Gorch-Fock-Str. 5 a, 26135 Oldenburg
END:VEVENT
BEGIN:VEVENT
DTSTAMP:20260421T191731
DTSTART;TZID=Europe/Berlin:20261130T194500
DTEND;TZID=Europe/Berlin:20261130T220000
UID:U43004-EEB-20261130T194500@EFBOLDENBURG
SUMMARY:Ich habe Lust zu nähen ... (U43004-EEB) 
LOCATION:Ev. Familien-Bildungsstätte, Nähraum,  Gorch-Fock-Str. 5 a, 26135 Oldenburg
END:VEVENT
BEGIN:VEVENT
DTSTAMP:20260421T191731
DTSTART;TZID=Europe/Berlin:20261207T194500
DTEND;TZID=Europe/Berlin:20261207T220000
UID:U43004-EEB-20261207T194500@EFBOLDENBURG
SUMMARY:Ich habe Lust zu nähen ... (U43004-EEB) 
LOCATION:Ev. Familien-Bildungsstätte, Nähraum,  Gorch-Fock-Str. 5 a, 26135 Oldenburg
END:VEVENT
BEGIN:VEVENT
DTSTAMP:20260421T191731
DTSTART;TZID=Europe/Berlin:20261214T194500
DTEND;TZID=Europe/Berlin:20261214T220000
UID:U43004-EEB-20261214T194500@EFBOLDENBURG
SUMMARY:Ich habe Lust zu nähen ... (U43004-EEB) 
LOCATION:Ev. Familien-Bildungsstätte, Nähraum,  Gorch-Fock-Str. 5 a, 26135 Oldenburg
END:VEVENT
END:VCALENDAR