BEGIN:VCALENDAR
VERSION:2.0
PRODID:https://www.kufer.de/kuferweb / DE
METHOD:PUBLISH
CALSCALE:GREGORIAN
X-WR-TIMEZONE:Europe/Berlin
BEGIN:VTIMEZONE
TZID:Europe/Berlin
X-LIC-LOCATION:Europe/Berlin
BEGIN:DAYLIGHT
TZOFFSETFROM:+0100
TZOFFSETTO:+0200
TZNAME:CEST
DTSTART:19700329T020000
RRULE:FREQ=YEARLY;INTERVAL=1;BYDAY=-1SU;BYMONTH=3
END:DAYLIGHT
BEGIN:STANDARD
TZOFFSETFROM:+0200
TZOFFSETTO:+0100
TZNAME:CET
DTSTART:19701025T030000
RRULE:FREQ=YEARLY;INTERVAL=1;BYDAY=-1SU;BYMONTH=10
END:STANDARD
END:VTIMEZONE
BEGIN:VEVENT
DTSTAMP:20260422T015950
DTSTART;TZID=Europe/Berlin:20261026T190000
DTEND;TZID=Europe/Berlin:20261026T211500
UID:U43008-EEB-20261026T190000@EFBOLDENBURG
SUMMARY:Nähkurs für Anfänger*innen und Fortgeschrittene (U43008-EEB) 
LOCATION:Ev. Familien-Bildungsstätte, Werkraum,  Gorch-Fock-Str. 5 a, 26135 Oldenburg
END:VEVENT
BEGIN:VEVENT
DTSTAMP:20260422T015950
DTSTART;TZID=Europe/Berlin:20261102T190000
DTEND;TZID=Europe/Berlin:20261102T211500
UID:U43008-EEB-20261102T190000@EFBOLDENBURG
SUMMARY:Nähkurs für Anfänger*innen und Fortgeschrittene (U43008-EEB) 
LOCATION:Ev. Familien-Bildungsstätte, Werkraum,  Gorch-Fock-Str. 5 a, 26135 Oldenburg
END:VEVENT
BEGIN:VEVENT
DTSTAMP:20260422T015950
DTSTART;TZID=Europe/Berlin:20261109T190000
DTEND;TZID=Europe/Berlin:20261109T211500
UID:U43008-EEB-20261109T190000@EFBOLDENBURG
SUMMARY:Nähkurs für Anfänger*innen und Fortgeschrittene (U43008-EEB) 
LOCATION:Ev. Familien-Bildungsstätte, Werkraum,  Gorch-Fock-Str. 5 a, 26135 Oldenburg
END:VEVENT
BEGIN:VEVENT
DTSTAMP:20260422T015950
DTSTART;TZID=Europe/Berlin:20261116T190000
DTEND;TZID=Europe/Berlin:20261116T211500
UID:U43008-EEB-20261116T190000@EFBOLDENBURG
SUMMARY:Nähkurs für Anfänger*innen und Fortgeschrittene (U43008-EEB) 
LOCATION:Ev. Familien-Bildungsstätte, Werkraum,  Gorch-Fock-Str. 5 a, 26135 Oldenburg
END:VEVENT
BEGIN:VEVENT
DTSTAMP:20260422T015950
DTSTART;TZID=Europe/Berlin:20261123T190000
DTEND;TZID=Europe/Berlin:20261123T211500
UID:U43008-EEB-20261123T190000@EFBOLDENBURG
SUMMARY:Nähkurs für Anfänger*innen und Fortgeschrittene (U43008-EEB) 
LOCATION:Ev. Familien-Bildungsstätte, Werkraum,  Gorch-Fock-Str. 5 a, 26135 Oldenburg
END:VEVENT
BEGIN:VEVENT
DTSTAMP:20260422T015950
DTSTART;TZID=Europe/Berlin:20261130T190000
DTEND;TZID=Europe/Berlin:20261130T211500
UID:U43008-EEB-20261130T190000@EFBOLDENBURG
SUMMARY:Nähkurs für Anfänger*innen und Fortgeschrittene (U43008-EEB) 
LOCATION:Ev. Familien-Bildungsstätte, Werkraum,  Gorch-Fock-Str. 5 a, 26135 Oldenburg
END:VEVENT
BEGIN:VEVENT
DTSTAMP:20260422T015950
DTSTART;TZID=Europe/Berlin:20261207T190000
DTEND;TZID=Europe/Berlin:20261207T211500
UID:U43008-EEB-20261207T190000@EFBOLDENBURG
SUMMARY:Nähkurs für Anfänger*innen und Fortgeschrittene (U43008-EEB) 
LOCATION:Ev. Familien-Bildungsstätte, Werkraum,  Gorch-Fock-Str. 5 a, 26135 Oldenburg
END:VEVENT
BEGIN:VEVENT
DTSTAMP:20260422T015950
DTSTART;TZID=Europe/Berlin:20261214T190000
DTEND;TZID=Europe/Berlin:20261214T211500
UID:U43008-EEB-20261214T190000@EFBOLDENBURG
SUMMARY:Nähkurs für Anfänger*innen und Fortgeschrittene (U43008-EEB) 
LOCATION:Ev. Familien-Bildungsstätte, Werkraum,  Gorch-Fock-Str. 5 a, 26135 Oldenburg
END:VEVENT
END:VCALENDAR