BEGIN:VCALENDAR
VERSION:2.0
PRODID:https://www.kufer.de/kuferweb / DE
METHOD:PUBLISH
CALSCALE:GREGORIAN
X-WR-TIMEZONE:Europe/Berlin
BEGIN:VTIMEZONE
TZID:Europe/Berlin
X-LIC-LOCATION:Europe/Berlin
BEGIN:DAYLIGHT
TZOFFSETFROM:+0100
TZOFFSETTO:+0200
TZNAME:CEST
DTSTART:19700329T020000
RRULE:FREQ=YEARLY;INTERVAL=1;BYDAY=-1SU;BYMONTH=3
END:DAYLIGHT
BEGIN:STANDARD
TZOFFSETFROM:+0200
TZOFFSETTO:+0100
TZNAME:CET
DTSTART:19701025T030000
RRULE:FREQ=YEARLY;INTERVAL=1;BYDAY=-1SU;BYMONTH=10
END:STANDARD
END:VTIMEZONE
BEGIN:VEVENT
DTSTAMP:20260422T002725
DTSTART;TZID=Europe/Berlin:20260203T183000
DTEND;TZID=Europe/Berlin:20260203T204500
UID:U43010-EEB-20260203T183000@EFBOLDENBURG
SUMMARY:Nähen - Weil es Spaß macht! -  für Anfänger*innen und Fortgeschrittene (U43010-EEB) 
LOCATION:Gemeindehaus Christuskirche, Harlingerstr. 18, Harlingerstr. 18, 26121 Oldenburg
END:VEVENT
BEGIN:VEVENT
DTSTAMP:20260422T002725
DTSTART;TZID=Europe/Berlin:20260210T183000
DTEND;TZID=Europe/Berlin:20260210T204500
UID:U43010-EEB-20260210T183000@EFBOLDENBURG
SUMMARY:Nähen - Weil es Spaß macht! -  für Anfänger*innen und Fortgeschrittene (U43010-EEB) 
LOCATION:Gemeindehaus Christuskirche, Harlingerstr. 18, Harlingerstr. 18, 26121 Oldenburg
END:VEVENT
BEGIN:VEVENT
DTSTAMP:20260422T002725
DTSTART;TZID=Europe/Berlin:20260224T183000
DTEND;TZID=Europe/Berlin:20260224T204500
UID:U43010-EEB-20260224T183000@EFBOLDENBURG
SUMMARY:Nähen - Weil es Spaß macht! -  für Anfänger*innen und Fortgeschrittene (U43010-EEB) 
LOCATION:Gemeindehaus Christuskirche, Harlingerstr. 18, Harlingerstr. 18, 26121 Oldenburg
END:VEVENT
BEGIN:VEVENT
DTSTAMP:20260422T002725
DTSTART;TZID=Europe/Berlin:20260310T183000
DTEND;TZID=Europe/Berlin:20260310T204500
UID:U43010-EEB-20260310T183000@EFBOLDENBURG
SUMMARY:Nähen - Weil es Spaß macht! -  für Anfänger*innen und Fortgeschrittene (U43010-EEB) 
LOCATION:Gemeindehaus Christuskirche, Harlingerstr. 18, Harlingerstr. 18, 26121 Oldenburg
END:VEVENT
BEGIN:VEVENT
DTSTAMP:20260422T002725
DTSTART;TZID=Europe/Berlin:20260317T183000
DTEND;TZID=Europe/Berlin:20260317T204500
UID:U43010-EEB-20260317T183000@EFBOLDENBURG
SUMMARY:Nähen - Weil es Spaß macht! -  für Anfänger*innen und Fortgeschrittene (U43010-EEB) 
LOCATION:Gemeindehaus Christuskirche, Harlingerstr. 18, Harlingerstr. 18, 26121 Oldenburg
END:VEVENT
BEGIN:VEVENT
DTSTAMP:20260422T002725
DTSTART;TZID=Europe/Berlin:20260324T183000
DTEND;TZID=Europe/Berlin:20260324T204500
UID:U43010-EEB-20260324T183000@EFBOLDENBURG
DESCRIPTION:wird nachgeholt am 26.05.2026 Ersatz für Ausfall am 17.02.2026
SUMMARY:Nähen - Weil es Spaß macht! -  für Anfänger*innen und Fortgeschrittene (U43010-EEB) 
LOCATION:Gemeindehaus Christuskirche, Harlingerstr. 18, Harlingerstr. 18, 26121 Oldenburg
END:VEVENT
BEGIN:VEVENT
DTSTAMP:20260422T002725
DTSTART;TZID=Europe/Berlin:20260331T183000
DTEND;TZID=Europe/Berlin:20260331T204500
UID:U43010-EEB-20260331T183000@EFBOLDENBURG
DESCRIPTION:Ersatz für Ausfall am 03.03.2026
SUMMARY:Nähen - Weil es Spaß macht! -  für Anfänger*innen und Fortgeschrittene (U43010-EEB) 
LOCATION:Gemeindehaus Christuskirche, Harlingerstr. 18, Harlingerstr. 18, 26121 Oldenburg
END:VEVENT
BEGIN:VEVENT
DTSTAMP:20260422T002725
DTSTART;TZID=Europe/Berlin:20260414T183000
DTEND;TZID=Europe/Berlin:20260414T204500
UID:U43010-EEB-20260414T183000@EFBOLDENBURG
SUMMARY:Nähen - Weil es Spaß macht! -  für Anfänger*innen und Fortgeschrittene (U43010-EEB) 
LOCATION:Gemeindehaus Christuskirche, Harlingerstr. 18, Harlingerstr. 18, 26121 Oldenburg
END:VEVENT
BEGIN:VEVENT
DTSTAMP:20260422T002725
DTSTART;TZID=Europe/Berlin:20260421T183000
DTEND;TZID=Europe/Berlin:20260421T204500
UID:U43010-EEB-20260421T183000@EFBOLDENBURG
SUMMARY:Nähen - Weil es Spaß macht! -  für Anfänger*innen und Fortgeschrittene (U43010-EEB) 
LOCATION:Gemeindehaus Christuskirche, Harlingerstr. 18, Harlingerstr. 18, 26121 Oldenburg
END:VEVENT
BEGIN:VEVENT
DTSTAMP:20260422T002725
DTSTART;TZID=Europe/Berlin:20260428T183000
DTEND;TZID=Europe/Berlin:20260428T204500
UID:U43010-EEB-20260428T183000@EFBOLDENBURG
SUMMARY:Nähen - Weil es Spaß macht! -  für Anfänger*innen und Fortgeschrittene (U43010-EEB) 
LOCATION:Gemeindehaus Christuskirche, Harlingerstr. 18, Harlingerstr. 18, 26121 Oldenburg
END:VEVENT
BEGIN:VEVENT
DTSTAMP:20260422T002725
DTSTART;TZID=Europe/Berlin:20260505T183000
DTEND;TZID=Europe/Berlin:20260505T204500
UID:U43010-EEB-20260505T183000@EFBOLDENBURG
SUMMARY:Nähen - Weil es Spaß macht! -  für Anfänger*innen und Fortgeschrittene (U43010-EEB) 
LOCATION:Gemeindehaus Christuskirche, Harlingerstr. 18, Harlingerstr. 18, 26121 Oldenburg
END:VEVENT
BEGIN:VEVENT
DTSTAMP:20260422T002725
DTSTART;TZID=Europe/Berlin:20260512T183000
DTEND;TZID=Europe/Berlin:20260512T204500
UID:U43010-EEB-20260512T183000@EFBOLDENBURG
SUMMARY:Nähen - Weil es Spaß macht! -  für Anfänger*innen und Fortgeschrittene (U43010-EEB) 
LOCATION:Gemeindehaus Christuskirche, Harlingerstr. 18, Harlingerstr. 18, 26121 Oldenburg
END:VEVENT
BEGIN:VEVENT
DTSTAMP:20260422T002725
DTSTART;TZID=Europe/Berlin:20260519T183000
DTEND;TZID=Europe/Berlin:20260519T204500
UID:U43010-EEB-20260519T183000@EFBOLDENBURG
SUMMARY:Nähen - Weil es Spaß macht! -  für Anfänger*innen und Fortgeschrittene (U43010-EEB) 
LOCATION:Gemeindehaus Christuskirche, Harlingerstr. 18, Harlingerstr. 18, 26121 Oldenburg
END:VEVENT
END:VCALENDAR