BEGIN:VCALENDAR
VERSION:2.0
PRODID:https://www.kufer.de/kuferweb / DE
METHOD:PUBLISH
CALSCALE:GREGORIAN
X-WR-TIMEZONE:Europe/Berlin
BEGIN:VTIMEZONE
TZID:Europe/Berlin
X-LIC-LOCATION:Europe/Berlin
BEGIN:DAYLIGHT
TZOFFSETFROM:+0100
TZOFFSETTO:+0200
TZNAME:CEST
DTSTART:19700329T020000
RRULE:FREQ=YEARLY;INTERVAL=1;BYDAY=-1SU;BYMONTH=3
END:DAYLIGHT
BEGIN:STANDARD
TZOFFSETFROM:+0200
TZOFFSETTO:+0100
TZNAME:CET
DTSTART:19701025T030000
RRULE:FREQ=YEARLY;INTERVAL=1;BYDAY=-1SU;BYMONTH=10
END:STANDARD
END:VTIMEZONE
BEGIN:VEVENT
DTSTAMP:20260422T002820
DTSTART;TZID=Europe/Berlin:20260901T183000
DTEND;TZID=Europe/Berlin:20260901T204500
UID:U43011-EEB-20260901T183000@EFBOLDENBURG
SUMMARY:Nähen - Weil es Spaß macht! -  Aufbaukurse (U43011-EEB) 
LOCATION:Gemeindehaus Christuskirche, Harlingerstr. 18, Harlingerstr. 18, 26121 Oldenburg
END:VEVENT
BEGIN:VEVENT
DTSTAMP:20260422T002820
DTSTART;TZID=Europe/Berlin:20260908T183000
DTEND;TZID=Europe/Berlin:20260908T204500
UID:U43011-EEB-20260908T183000@EFBOLDENBURG
SUMMARY:Nähen - Weil es Spaß macht! -  Aufbaukurse (U43011-EEB) 
LOCATION:Gemeindehaus Christuskirche, Harlingerstr. 18, Harlingerstr. 18, 26121 Oldenburg
END:VEVENT
BEGIN:VEVENT
DTSTAMP:20260422T002820
DTSTART;TZID=Europe/Berlin:20260915T183000
DTEND;TZID=Europe/Berlin:20260915T204500
UID:U43011-EEB-20260915T183000@EFBOLDENBURG
SUMMARY:Nähen - Weil es Spaß macht! -  Aufbaukurse (U43011-EEB) 
LOCATION:Gemeindehaus Christuskirche, Harlingerstr. 18, Harlingerstr. 18, 26121 Oldenburg
END:VEVENT
BEGIN:VEVENT
DTSTAMP:20260422T002820
DTSTART;TZID=Europe/Berlin:20260922T183000
DTEND;TZID=Europe/Berlin:20260922T204500
UID:U43011-EEB-20260922T183000@EFBOLDENBURG
SUMMARY:Nähen - Weil es Spaß macht! -  Aufbaukurse (U43011-EEB) 
LOCATION:Gemeindehaus Christuskirche, Harlingerstr. 18, Harlingerstr. 18, 26121 Oldenburg
END:VEVENT
BEGIN:VEVENT
DTSTAMP:20260422T002820
DTSTART;TZID=Europe/Berlin:20260929T183000
DTEND;TZID=Europe/Berlin:20260929T204500
UID:U43011-EEB-20260929T183000@EFBOLDENBURG
SUMMARY:Nähen - Weil es Spaß macht! -  Aufbaukurse (U43011-EEB) 
LOCATION:Gemeindehaus Christuskirche, Harlingerstr. 18, Harlingerstr. 18, 26121 Oldenburg
END:VEVENT
BEGIN:VEVENT
DTSTAMP:20260422T002820
DTSTART;TZID=Europe/Berlin:20261006T183000
DTEND;TZID=Europe/Berlin:20261006T204500
UID:U43011-EEB-20261006T183000@EFBOLDENBURG
SUMMARY:Nähen - Weil es Spaß macht! -  Aufbaukurse (U43011-EEB) 
LOCATION:Gemeindehaus Christuskirche, Harlingerstr. 18, Harlingerstr. 18, 26121 Oldenburg
END:VEVENT
BEGIN:VEVENT
DTSTAMP:20260422T002820
DTSTART;TZID=Europe/Berlin:20261027T183000
DTEND;TZID=Europe/Berlin:20261027T204500
UID:U43011-EEB-20261027T183000@EFBOLDENBURG
SUMMARY:Nähen - Weil es Spaß macht! -  Aufbaukurse (U43011-EEB) 
LOCATION:Gemeindehaus Christuskirche, Harlingerstr. 18, Harlingerstr. 18, 26121 Oldenburg
END:VEVENT
BEGIN:VEVENT
DTSTAMP:20260422T002820
DTSTART;TZID=Europe/Berlin:20261103T183000
DTEND;TZID=Europe/Berlin:20261103T204500
UID:U43011-EEB-20261103T183000@EFBOLDENBURG
SUMMARY:Nähen - Weil es Spaß macht! -  Aufbaukurse (U43011-EEB) 
LOCATION:Gemeindehaus Christuskirche, Harlingerstr. 18, Harlingerstr. 18, 26121 Oldenburg
END:VEVENT
BEGIN:VEVENT
DTSTAMP:20260422T002820
DTSTART;TZID=Europe/Berlin:20261110T183000
DTEND;TZID=Europe/Berlin:20261110T204500
UID:U43011-EEB-20261110T183000@EFBOLDENBURG
SUMMARY:Nähen - Weil es Spaß macht! -  Aufbaukurse (U43011-EEB) 
LOCATION:Gemeindehaus Christuskirche, Harlingerstr. 18, Harlingerstr. 18, 26121 Oldenburg
END:VEVENT
BEGIN:VEVENT
DTSTAMP:20260422T002820
DTSTART;TZID=Europe/Berlin:20261117T183000
DTEND;TZID=Europe/Berlin:20261117T204500
UID:U43011-EEB-20261117T183000@EFBOLDENBURG
SUMMARY:Nähen - Weil es Spaß macht! -  Aufbaukurse (U43011-EEB) 
LOCATION:Gemeindehaus Christuskirche, Harlingerstr. 18, Harlingerstr. 18, 26121 Oldenburg
END:VEVENT
END:VCALENDAR