BEGIN:VCALENDAR
VERSION:2.0
PRODID:https://www.kufer.de/kuferweb / DE
METHOD:PUBLISH
CALSCALE:GREGORIAN
X-WR-TIMEZONE:Europe/Berlin
BEGIN:VTIMEZONE
TZID:Europe/Berlin
X-LIC-LOCATION:Europe/Berlin
BEGIN:DAYLIGHT
TZOFFSETFROM:+0100
TZOFFSETTO:+0200
TZNAME:CEST
DTSTART:19700329T020000
RRULE:FREQ=YEARLY;INTERVAL=1;BYDAY=-1SU;BYMONTH=3
END:DAYLIGHT
BEGIN:STANDARD
TZOFFSETFROM:+0200
TZOFFSETTO:+0100
TZNAME:CET
DTSTART:19701025T030000
RRULE:FREQ=YEARLY;INTERVAL=1;BYDAY=-1SU;BYMONTH=10
END:STANDARD
END:VTIMEZONE
BEGIN:VEVENT
DTSTAMP:20260421T132015
DTSTART;TZID=Europe/Berlin:20260422T194500
DTEND;TZID=Europe/Berlin:20260422T220000
UID:U43013-EEB-20260422T194500@EFBOLDENBURG
SUMMARY:Ich habe Lust zu nähen ... (U43013-EEB) 
LOCATION:Ev. Familien-Bildungsstätte, Werkraum,  Gorch-Fock-Str. 5 a, 26135 Oldenburg
END:VEVENT
BEGIN:VEVENT
DTSTAMP:20260421T132015
DTSTART;TZID=Europe/Berlin:20260429T194500
DTEND;TZID=Europe/Berlin:20260429T220000
UID:U43013-EEB-20260429T194500@EFBOLDENBURG
SUMMARY:Ich habe Lust zu nähen ... (U43013-EEB) 
LOCATION:Ev. Familien-Bildungsstätte, Werkraum,  Gorch-Fock-Str. 5 a, 26135 Oldenburg
END:VEVENT
BEGIN:VEVENT
DTSTAMP:20260421T132015
DTSTART;TZID=Europe/Berlin:20260506T194500
DTEND;TZID=Europe/Berlin:20260506T220000
UID:U43013-EEB-20260506T194500@EFBOLDENBURG
SUMMARY:Ich habe Lust zu nähen ... (U43013-EEB) 
LOCATION:Ev. Familien-Bildungsstätte, Werkraum,  Gorch-Fock-Str. 5 a, 26135 Oldenburg
END:VEVENT
BEGIN:VEVENT
DTSTAMP:20260421T132015
DTSTART;TZID=Europe/Berlin:20260513T194500
DTEND;TZID=Europe/Berlin:20260513T220000
UID:U43013-EEB-20260513T194500@EFBOLDENBURG
SUMMARY:Ich habe Lust zu nähen ... (U43013-EEB) 
LOCATION:Ev. Familien-Bildungsstätte, Werkraum,  Gorch-Fock-Str. 5 a, 26135 Oldenburg
END:VEVENT
BEGIN:VEVENT
DTSTAMP:20260421T132015
DTSTART;TZID=Europe/Berlin:20260520T194500
DTEND;TZID=Europe/Berlin:20260520T220000
UID:U43013-EEB-20260520T194500@EFBOLDENBURG
SUMMARY:Ich habe Lust zu nähen ... (U43013-EEB) 
LOCATION:Ev. Familien-Bildungsstätte, Werkraum,  Gorch-Fock-Str. 5 a, 26135 Oldenburg
END:VEVENT
BEGIN:VEVENT
DTSTAMP:20260421T132015
DTSTART;TZID=Europe/Berlin:20260527T194500
DTEND;TZID=Europe/Berlin:20260527T220000
UID:U43013-EEB-20260527T194500@EFBOLDENBURG
SUMMARY:Ich habe Lust zu nähen ... (U43013-EEB) 
LOCATION:Ev. Familien-Bildungsstätte, Werkraum,  Gorch-Fock-Str. 5 a, 26135 Oldenburg
END:VEVENT
BEGIN:VEVENT
DTSTAMP:20260421T132015
DTSTART;TZID=Europe/Berlin:20260603T194500
DTEND;TZID=Europe/Berlin:20260603T220000
UID:U43013-EEB-20260603T194500@EFBOLDENBURG
SUMMARY:Ich habe Lust zu nähen ... (U43013-EEB) 
LOCATION:Ev. Familien-Bildungsstätte, Werkraum,  Gorch-Fock-Str. 5 a, 26135 Oldenburg
END:VEVENT
BEGIN:VEVENT
DTSTAMP:20260421T132015
DTSTART;TZID=Europe/Berlin:20260610T194500
DTEND;TZID=Europe/Berlin:20260610T220000
UID:U43013-EEB-20260610T194500@EFBOLDENBURG
SUMMARY:Ich habe Lust zu nähen ... (U43013-EEB) 
LOCATION:Ev. Familien-Bildungsstätte, Werkraum,  Gorch-Fock-Str. 5 a, 26135 Oldenburg
END:VEVENT
BEGIN:VEVENT
DTSTAMP:20260421T132015
DTSTART;TZID=Europe/Berlin:20260617T194500
DTEND;TZID=Europe/Berlin:20260617T220000
UID:U43013-EEB-20260617T194500@EFBOLDENBURG
DESCRIPTION:Ersatz für Ausfall am 15.04.2026
SUMMARY:Ich habe Lust zu nähen ... (U43013-EEB) 
LOCATION:Ev. Familien-Bildungsstätte, Werkraum,  Gorch-Fock-Str. 5 a, 26135 Oldenburg
END:VEVENT
END:VCALENDAR