BEGIN:VCALENDAR
VERSION:2.0
PRODID:https://www.kufer.de/kuferweb / DE
METHOD:PUBLISH
CALSCALE:GREGORIAN
X-WR-TIMEZONE:Europe/Berlin
BEGIN:VTIMEZONE
TZID:Europe/Berlin
X-LIC-LOCATION:Europe/Berlin
BEGIN:DAYLIGHT
TZOFFSETFROM:+0100
TZOFFSETTO:+0200
TZNAME:CEST
DTSTART:19700329T020000
RRULE:FREQ=YEARLY;INTERVAL=1;BYDAY=-1SU;BYMONTH=3
END:DAYLIGHT
BEGIN:STANDARD
TZOFFSETFROM:+0200
TZOFFSETTO:+0100
TZNAME:CET
DTSTART:19701025T030000
RRULE:FREQ=YEARLY;INTERVAL=1;BYDAY=-1SU;BYMONTH=10
END:STANDARD
END:VTIMEZONE
BEGIN:VEVENT
DTSTAMP:20260421T163653
DTSTART;TZID=Europe/Berlin:20260902T194500
DTEND;TZID=Europe/Berlin:20260902T220000
UID:U43014-EEB-20260902T194500@EFBOLDENBURG
SUMMARY:Ich habe Lust zu nähen ... (U43014-EEB) 
LOCATION:Ev. Familien-Bildungsstätte, Werkraum,  Gorch-Fock-Str. 5 a, 26135 Oldenburg
END:VEVENT
BEGIN:VEVENT
DTSTAMP:20260421T163653
DTSTART;TZID=Europe/Berlin:20260909T194500
DTEND;TZID=Europe/Berlin:20260909T220000
UID:U43014-EEB-20260909T194500@EFBOLDENBURG
SUMMARY:Ich habe Lust zu nähen ... (U43014-EEB) 
LOCATION:Ev. Familien-Bildungsstätte, Werkraum,  Gorch-Fock-Str. 5 a, 26135 Oldenburg
END:VEVENT
BEGIN:VEVENT
DTSTAMP:20260421T163653
DTSTART;TZID=Europe/Berlin:20260916T194500
DTEND;TZID=Europe/Berlin:20260916T220000
UID:U43014-EEB-20260916T194500@EFBOLDENBURG
SUMMARY:Ich habe Lust zu nähen ... (U43014-EEB) 
LOCATION:Ev. Familien-Bildungsstätte, Werkraum,  Gorch-Fock-Str. 5 a, 26135 Oldenburg
END:VEVENT
BEGIN:VEVENT
DTSTAMP:20260421T163653
DTSTART;TZID=Europe/Berlin:20260923T194500
DTEND;TZID=Europe/Berlin:20260923T220000
UID:U43014-EEB-20260923T194500@EFBOLDENBURG
SUMMARY:Ich habe Lust zu nähen ... (U43014-EEB) 
LOCATION:Ev. Familien-Bildungsstätte, Werkraum,  Gorch-Fock-Str. 5 a, 26135 Oldenburg
END:VEVENT
BEGIN:VEVENT
DTSTAMP:20260421T163653
DTSTART;TZID=Europe/Berlin:20260930T194500
DTEND;TZID=Europe/Berlin:20260930T220000
UID:U43014-EEB-20260930T194500@EFBOLDENBURG
SUMMARY:Ich habe Lust zu nähen ... (U43014-EEB) 
LOCATION:Ev. Familien-Bildungsstätte, Werkraum,  Gorch-Fock-Str. 5 a, 26135 Oldenburg
END:VEVENT
BEGIN:VEVENT
DTSTAMP:20260421T163653
DTSTART;TZID=Europe/Berlin:20261007T194500
DTEND;TZID=Europe/Berlin:20261007T220000
UID:U43014-EEB-20261007T194500@EFBOLDENBURG
SUMMARY:Ich habe Lust zu nähen ... (U43014-EEB) 
LOCATION:Ev. Familien-Bildungsstätte, Werkraum,  Gorch-Fock-Str. 5 a, 26135 Oldenburg
END:VEVENT
END:VCALENDAR