BEGIN:VCALENDAR
VERSION:2.0
PRODID:https://www.kufer.de/kuferweb / DE
METHOD:PUBLISH
CALSCALE:GREGORIAN
X-WR-TIMEZONE:Europe/Berlin
BEGIN:VTIMEZONE
TZID:Europe/Berlin
X-LIC-LOCATION:Europe/Berlin
BEGIN:DAYLIGHT
TZOFFSETFROM:+0100
TZOFFSETTO:+0200
TZNAME:CEST
DTSTART:19700329T020000
RRULE:FREQ=YEARLY;INTERVAL=1;BYDAY=-1SU;BYMONTH=3
END:DAYLIGHT
BEGIN:STANDARD
TZOFFSETFROM:+0200
TZOFFSETTO:+0100
TZNAME:CET
DTSTART:19701025T030000
RRULE:FREQ=YEARLY;INTERVAL=1;BYDAY=-1SU;BYMONTH=10
END:STANDARD
END:VTIMEZONE
BEGIN:VEVENT
DTSTAMP:20260422T031945
DTSTART;TZID=Europe/Berlin:20260115T194500
DTEND;TZID=Europe/Berlin:20260115T220000
UID:U43020-EEB-20260115T194500@EFBOLDENBURG
SUMMARY:"Wenn ich doch nähen könnte ..." -  Anfänger*innen und Fortgeschrittene (U43020-EEB) 
LOCATION:Ev. Familien-Bildungsstätte, Werkraum,  Gorch-Fock-Str. 5 a, 26135 Oldenburg
END:VEVENT
BEGIN:VEVENT
DTSTAMP:20260422T031945
DTSTART;TZID=Europe/Berlin:20260122T194500
DTEND;TZID=Europe/Berlin:20260122T220000
UID:U43020-EEB-20260122T194500@EFBOLDENBURG
SUMMARY:"Wenn ich doch nähen könnte ..." -  Anfänger*innen und Fortgeschrittene (U43020-EEB) 
LOCATION:Ev. Familien-Bildungsstätte, Werkraum,  Gorch-Fock-Str. 5 a, 26135 Oldenburg
END:VEVENT
BEGIN:VEVENT
DTSTAMP:20260422T031945
DTSTART;TZID=Europe/Berlin:20260129T194500
DTEND;TZID=Europe/Berlin:20260129T220000
UID:U43020-EEB-20260129T194500@EFBOLDENBURG
SUMMARY:"Wenn ich doch nähen könnte ..." -  Anfänger*innen und Fortgeschrittene (U43020-EEB) 
LOCATION:Ev. Familien-Bildungsstätte, Werkraum,  Gorch-Fock-Str. 5 a, 26135 Oldenburg
END:VEVENT
BEGIN:VEVENT
DTSTAMP:20260422T031945
DTSTART;TZID=Europe/Berlin:20260205T194500
DTEND;TZID=Europe/Berlin:20260205T220000
UID:U43020-EEB-20260205T194500@EFBOLDENBURG
SUMMARY:"Wenn ich doch nähen könnte ..." -  Anfänger*innen und Fortgeschrittene (U43020-EEB) 
LOCATION:Ev. Familien-Bildungsstätte, Werkraum,  Gorch-Fock-Str. 5 a, 26135 Oldenburg
END:VEVENT
BEGIN:VEVENT
DTSTAMP:20260422T031945
DTSTART;TZID=Europe/Berlin:20260212T194500
DTEND;TZID=Europe/Berlin:20260212T220000
UID:U43020-EEB-20260212T194500@EFBOLDENBURG
SUMMARY:"Wenn ich doch nähen könnte ..." -  Anfänger*innen und Fortgeschrittene (U43020-EEB) 
LOCATION:Ev. Familien-Bildungsstätte, Werkraum,  Gorch-Fock-Str. 5 a, 26135 Oldenburg
END:VEVENT
BEGIN:VEVENT
DTSTAMP:20260422T031945
DTSTART;TZID=Europe/Berlin:20260219T194500
DTEND;TZID=Europe/Berlin:20260219T220000
UID:U43020-EEB-20260219T194500@EFBOLDENBURG
SUMMARY:"Wenn ich doch nähen könnte ..." -  Anfänger*innen und Fortgeschrittene (U43020-EEB) 
LOCATION:Ev. Familien-Bildungsstätte, Werkraum,  Gorch-Fock-Str. 5 a, 26135 Oldenburg
END:VEVENT
BEGIN:VEVENT
DTSTAMP:20260422T031945
DTSTART;TZID=Europe/Berlin:20260226T194500
DTEND;TZID=Europe/Berlin:20260226T220000
UID:U43020-EEB-20260226T194500@EFBOLDENBURG
SUMMARY:"Wenn ich doch nähen könnte ..." -  Anfänger*innen und Fortgeschrittene (U43020-EEB) 
LOCATION:Ev. Familien-Bildungsstätte, Werkraum,  Gorch-Fock-Str. 5 a, 26135 Oldenburg
END:VEVENT
BEGIN:VEVENT
DTSTAMP:20260422T031945
DTSTART;TZID=Europe/Berlin:20260305T194500
DTEND;TZID=Europe/Berlin:20260305T220000
UID:U43020-EEB-20260305T194500@EFBOLDENBURG
SUMMARY:"Wenn ich doch nähen könnte ..." -  Anfänger*innen und Fortgeschrittene (U43020-EEB) 
LOCATION:Ev. Familien-Bildungsstätte, Werkraum,  Gorch-Fock-Str. 5 a, 26135 Oldenburg
END:VEVENT
BEGIN:VEVENT
DTSTAMP:20260422T031945
DTSTART;TZID=Europe/Berlin:20260312T194500
DTEND;TZID=Europe/Berlin:20260312T220000
UID:U43020-EEB-20260312T194500@EFBOLDENBURG
SUMMARY:"Wenn ich doch nähen könnte ..." -  Anfänger*innen und Fortgeschrittene (U43020-EEB) 
LOCATION:Ev. Familien-Bildungsstätte, Werkraum,  Gorch-Fock-Str. 5 a, 26135 Oldenburg
END:VEVENT
BEGIN:VEVENT
DTSTAMP:20260422T031945
DTSTART;TZID=Europe/Berlin:20260319T194500
DTEND;TZID=Europe/Berlin:20260319T220000
UID:U43020-EEB-20260319T194500@EFBOLDENBURG
SUMMARY:"Wenn ich doch nähen könnte ..." -  Anfänger*innen und Fortgeschrittene (U43020-EEB) 
LOCATION:Ev. Familien-Bildungsstätte, Werkraum,  Gorch-Fock-Str. 5 a, 26135 Oldenburg
END:VEVENT
END:VCALENDAR