BEGIN:VCALENDAR
VERSION:2.0
PRODID:https://www.kufer.de/kuferweb / DE
METHOD:PUBLISH
CALSCALE:GREGORIAN
X-WR-TIMEZONE:Europe/Berlin
BEGIN:VTIMEZONE
TZID:Europe/Berlin
X-LIC-LOCATION:Europe/Berlin
BEGIN:DAYLIGHT
TZOFFSETFROM:+0100
TZOFFSETTO:+0200
TZNAME:CEST
DTSTART:19700329T020000
RRULE:FREQ=YEARLY;INTERVAL=1;BYDAY=-1SU;BYMONTH=3
END:DAYLIGHT
BEGIN:STANDARD
TZOFFSETFROM:+0200
TZOFFSETTO:+0100
TZNAME:CET
DTSTART:19701025T030000
RRULE:FREQ=YEARLY;INTERVAL=1;BYDAY=-1SU;BYMONTH=10
END:STANDARD
END:VTIMEZONE
BEGIN:VEVENT
DTSTAMP:20260421T201311
DTSTART;TZID=Europe/Berlin:20260416T194500
DTEND;TZID=Europe/Berlin:20260416T220000
UID:U43021-EEB-20260416T194500@EFBOLDENBURG
SUMMARY:"Wenn ich doch nähen könnte ..." -  Anfänger*innen und Fortgeschrittene (U43021-EEB) 
LOCATION:Ev. Familien-Bildungsstätte, Werkraum,  Gorch-Fock-Str. 5 a, 26135 Oldenburg
END:VEVENT
BEGIN:VEVENT
DTSTAMP:20260421T201311
DTSTART;TZID=Europe/Berlin:20260423T194500
DTEND;TZID=Europe/Berlin:20260423T220000
UID:U43021-EEB-20260423T194500@EFBOLDENBURG
SUMMARY:"Wenn ich doch nähen könnte ..." -  Anfänger*innen und Fortgeschrittene (U43021-EEB) 
LOCATION:Ev. Familien-Bildungsstätte, Werkraum,  Gorch-Fock-Str. 5 a, 26135 Oldenburg
END:VEVENT
BEGIN:VEVENT
DTSTAMP:20260421T201311
DTSTART;TZID=Europe/Berlin:20260430T194500
DTEND;TZID=Europe/Berlin:20260430T220000
UID:U43021-EEB-20260430T194500@EFBOLDENBURG
SUMMARY:"Wenn ich doch nähen könnte ..." -  Anfänger*innen und Fortgeschrittene (U43021-EEB) 
LOCATION:Ev. Familien-Bildungsstätte, Werkraum,  Gorch-Fock-Str. 5 a, 26135 Oldenburg
END:VEVENT
BEGIN:VEVENT
DTSTAMP:20260421T201311
DTSTART;TZID=Europe/Berlin:20260507T194500
DTEND;TZID=Europe/Berlin:20260507T220000
UID:U43021-EEB-20260507T194500@EFBOLDENBURG
SUMMARY:"Wenn ich doch nähen könnte ..." -  Anfänger*innen und Fortgeschrittene (U43021-EEB) 
LOCATION:Ev. Familien-Bildungsstätte, Werkraum,  Gorch-Fock-Str. 5 a, 26135 Oldenburg
END:VEVENT
BEGIN:VEVENT
DTSTAMP:20260421T201311
DTSTART;TZID=Europe/Berlin:20260521T194500
DTEND;TZID=Europe/Berlin:20260521T220000
UID:U43021-EEB-20260521T194500@EFBOLDENBURG
SUMMARY:"Wenn ich doch nähen könnte ..." -  Anfänger*innen und Fortgeschrittene (U43021-EEB) 
LOCATION:Ev. Familien-Bildungsstätte, Werkraum,  Gorch-Fock-Str. 5 a, 26135 Oldenburg
END:VEVENT
BEGIN:VEVENT
DTSTAMP:20260421T201311
DTSTART;TZID=Europe/Berlin:20260528T194500
DTEND;TZID=Europe/Berlin:20260528T220000
UID:U43021-EEB-20260528T194500@EFBOLDENBURG
SUMMARY:"Wenn ich doch nähen könnte ..." -  Anfänger*innen und Fortgeschrittene (U43021-EEB) 
LOCATION:Ev. Familien-Bildungsstätte, Werkraum,  Gorch-Fock-Str. 5 a, 26135 Oldenburg
END:VEVENT
BEGIN:VEVENT
DTSTAMP:20260421T201311
DTSTART;TZID=Europe/Berlin:20260604T194500
DTEND;TZID=Europe/Berlin:20260604T220000
UID:U43021-EEB-20260604T194500@EFBOLDENBURG
SUMMARY:"Wenn ich doch nähen könnte ..." -  Anfänger*innen und Fortgeschrittene (U43021-EEB) 
LOCATION:Ev. Familien-Bildungsstätte, Werkraum,  Gorch-Fock-Str. 5 a, 26135 Oldenburg
END:VEVENT
BEGIN:VEVENT
DTSTAMP:20260421T201311
DTSTART;TZID=Europe/Berlin:20260611T194500
DTEND;TZID=Europe/Berlin:20260611T220000
UID:U43021-EEB-20260611T194500@EFBOLDENBURG
SUMMARY:"Wenn ich doch nähen könnte ..." -  Anfänger*innen und Fortgeschrittene (U43021-EEB) 
LOCATION:Ev. Familien-Bildungsstätte, Werkraum,  Gorch-Fock-Str. 5 a, 26135 Oldenburg
END:VEVENT
BEGIN:VEVENT
DTSTAMP:20260421T201311
DTSTART;TZID=Europe/Berlin:20260618T194500
DTEND;TZID=Europe/Berlin:20260618T220000
UID:U43021-EEB-20260618T194500@EFBOLDENBURG
SUMMARY:"Wenn ich doch nähen könnte ..." -  Anfänger*innen und Fortgeschrittene (U43021-EEB) 
LOCATION:Ev. Familien-Bildungsstätte, Werkraum,  Gorch-Fock-Str. 5 a, 26135 Oldenburg
END:VEVENT
END:VCALENDAR