BEGIN:VCALENDAR
VERSION:2.0
PRODID:https://www.kufer.de/kuferweb / DE
METHOD:PUBLISH
CALSCALE:GREGORIAN
X-WR-TIMEZONE:Europe/Berlin
BEGIN:VTIMEZONE
TZID:Europe/Berlin
X-LIC-LOCATION:Europe/Berlin
BEGIN:DAYLIGHT
TZOFFSETFROM:+0100
TZOFFSETTO:+0200
TZNAME:CEST
DTSTART:19700329T020000
RRULE:FREQ=YEARLY;INTERVAL=1;BYDAY=-1SU;BYMONTH=3
END:DAYLIGHT
BEGIN:STANDARD
TZOFFSETFROM:+0200
TZOFFSETTO:+0100
TZNAME:CET
DTSTART:19701025T030000
RRULE:FREQ=YEARLY;INTERVAL=1;BYDAY=-1SU;BYMONTH=10
END:STANDARD
END:VTIMEZONE
BEGIN:VEVENT
DTSTAMP:20260421T202232
DTSTART;TZID=Europe/Berlin:20260903T194500
DTEND;TZID=Europe/Berlin:20260903T220000
UID:U43022-EEB-20260903T194500@EFBOLDENBURG
SUMMARY:"Wenn ich doch nähen könnte ..." -  Anfänger*innen und Fortgeschrittene (U43022-EEB) 
LOCATION:Ev. Familien-Bildungsstätte, Werkraum,  Gorch-Fock-Str. 5 a, 26135 Oldenburg
END:VEVENT
BEGIN:VEVENT
DTSTAMP:20260421T202232
DTSTART;TZID=Europe/Berlin:20260910T194500
DTEND;TZID=Europe/Berlin:20260910T220000
UID:U43022-EEB-20260910T194500@EFBOLDENBURG
SUMMARY:"Wenn ich doch nähen könnte ..." -  Anfänger*innen und Fortgeschrittene (U43022-EEB) 
LOCATION:Ev. Familien-Bildungsstätte, Werkraum,  Gorch-Fock-Str. 5 a, 26135 Oldenburg
END:VEVENT
BEGIN:VEVENT
DTSTAMP:20260421T202232
DTSTART;TZID=Europe/Berlin:20260917T194500
DTEND;TZID=Europe/Berlin:20260917T220000
UID:U43022-EEB-20260917T194500@EFBOLDENBURG
SUMMARY:"Wenn ich doch nähen könnte ..." -  Anfänger*innen und Fortgeschrittene (U43022-EEB) 
LOCATION:Ev. Familien-Bildungsstätte, Werkraum,  Gorch-Fock-Str. 5 a, 26135 Oldenburg
END:VEVENT
BEGIN:VEVENT
DTSTAMP:20260421T202232
DTSTART;TZID=Europe/Berlin:20260924T194500
DTEND;TZID=Europe/Berlin:20260924T220000
UID:U43022-EEB-20260924T194500@EFBOLDENBURG
SUMMARY:"Wenn ich doch nähen könnte ..." -  Anfänger*innen und Fortgeschrittene (U43022-EEB) 
LOCATION:Ev. Familien-Bildungsstätte, Werkraum,  Gorch-Fock-Str. 5 a, 26135 Oldenburg
END:VEVENT
BEGIN:VEVENT
DTSTAMP:20260421T202232
DTSTART;TZID=Europe/Berlin:20261001T194500
DTEND;TZID=Europe/Berlin:20261001T220000
UID:U43022-EEB-20261001T194500@EFBOLDENBURG
SUMMARY:"Wenn ich doch nähen könnte ..." -  Anfänger*innen und Fortgeschrittene (U43022-EEB) 
LOCATION:Ev. Familien-Bildungsstätte, Werkraum,  Gorch-Fock-Str. 5 a, 26135 Oldenburg
END:VEVENT
BEGIN:VEVENT
DTSTAMP:20260421T202232
DTSTART;TZID=Europe/Berlin:20261008T194500
DTEND;TZID=Europe/Berlin:20261008T220000
UID:U43022-EEB-20261008T194500@EFBOLDENBURG
SUMMARY:"Wenn ich doch nähen könnte ..." -  Anfänger*innen und Fortgeschrittene (U43022-EEB) 
LOCATION:Ev. Familien-Bildungsstätte, Werkraum,  Gorch-Fock-Str. 5 a, 26135 Oldenburg
END:VEVENT
BEGIN:VEVENT
DTSTAMP:20260421T202232
DTSTART;TZID=Europe/Berlin:20261029T194500
DTEND;TZID=Europe/Berlin:20261029T220000
UID:U43022-EEB-20261029T194500@EFBOLDENBURG
SUMMARY:"Wenn ich doch nähen könnte ..." -  Anfänger*innen und Fortgeschrittene (U43022-EEB) 
LOCATION:Ev. Familien-Bildungsstätte, Werkraum,  Gorch-Fock-Str. 5 a, 26135 Oldenburg
END:VEVENT
BEGIN:VEVENT
DTSTAMP:20260421T202232
DTSTART;TZID=Europe/Berlin:20261105T194500
DTEND;TZID=Europe/Berlin:20261105T220000
UID:U43022-EEB-20261105T194500@EFBOLDENBURG
SUMMARY:"Wenn ich doch nähen könnte ..." -  Anfänger*innen und Fortgeschrittene (U43022-EEB) 
LOCATION:Ev. Familien-Bildungsstätte, Werkraum,  Gorch-Fock-Str. 5 a, 26135 Oldenburg
END:VEVENT
BEGIN:VEVENT
DTSTAMP:20260421T202232
DTSTART;TZID=Europe/Berlin:20261112T194500
DTEND;TZID=Europe/Berlin:20261112T220000
UID:U43022-EEB-20261112T194500@EFBOLDENBURG
SUMMARY:"Wenn ich doch nähen könnte ..." -  Anfänger*innen und Fortgeschrittene (U43022-EEB) 
LOCATION:Ev. Familien-Bildungsstätte, Werkraum,  Gorch-Fock-Str. 5 a, 26135 Oldenburg
END:VEVENT
BEGIN:VEVENT
DTSTAMP:20260421T202232
DTSTART;TZID=Europe/Berlin:20261119T194500
DTEND;TZID=Europe/Berlin:20261119T220000
UID:U43022-EEB-20261119T194500@EFBOLDENBURG
SUMMARY:"Wenn ich doch nähen könnte ..." -  Anfänger*innen und Fortgeschrittene (U43022-EEB) 
LOCATION:Ev. Familien-Bildungsstätte, Werkraum,  Gorch-Fock-Str. 5 a, 26135 Oldenburg
END:VEVENT
END:VCALENDAR