BEGIN:VCALENDAR
VERSION:2.0
PRODID:https://www.kufer.de/kuferweb / DE
METHOD:PUBLISH
CALSCALE:GREGORIAN
X-WR-TIMEZONE:Europe/Berlin
BEGIN:VTIMEZONE
TZID:Europe/Berlin
X-LIC-LOCATION:Europe/Berlin
BEGIN:DAYLIGHT
TZOFFSETFROM:+0100
TZOFFSETTO:+0200
TZNAME:CEST
DTSTART:19700329T020000
RRULE:FREQ=YEARLY;INTERVAL=1;BYDAY=-1SU;BYMONTH=3
END:DAYLIGHT
BEGIN:STANDARD
TZOFFSETFROM:+0200
TZOFFSETTO:+0100
TZNAME:CET
DTSTART:19701025T030000
RRULE:FREQ=YEARLY;INTERVAL=1;BYDAY=-1SU;BYMONTH=10
END:STANDARD
END:VTIMEZONE
BEGIN:VEVENT
DTSTAMP:20260421T220213
DTSTART;TZID=Europe/Berlin:20261108T123000
DTEND;TZID=Europe/Berlin:20261108T143000
UID:U43033-20261108T123000@EFBOLDENBURG
SUMMARY:Ein raffiniertes Dreieckstuch stricken (U43033) 
LOCATION:Ev. Familien-Bildungsstätte, Gesprächsraum, Gorch-Fock-Str. 5 a, 26135 Oldenburg
END:VEVENT
BEGIN:VEVENT
DTSTAMP:20260421T220213
DTSTART;TZID=Europe/Berlin:20261115T123000
DTEND;TZID=Europe/Berlin:20261115T143000
UID:U43033-20261115T123000@EFBOLDENBURG
SUMMARY:Ein raffiniertes Dreieckstuch stricken (U43033) 
LOCATION:Ev. Familien-Bildungsstätte, Gesprächsraum, Gorch-Fock-Str. 5 a, 26135 Oldenburg
END:VEVENT
BEGIN:VEVENT
DTSTAMP:20260421T220213
DTSTART;TZID=Europe/Berlin:20261122T123000
DTEND;TZID=Europe/Berlin:20261122T143000
UID:U43033-20261122T123000@EFBOLDENBURG
SUMMARY:Ein raffiniertes Dreieckstuch stricken (U43033) 
LOCATION:Ev. Familien-Bildungsstätte, Gesprächsraum, Gorch-Fock-Str. 5 a, 26135 Oldenburg
END:VEVENT
END:VCALENDAR