BEGIN:VCALENDAR
VERSION:2.0
PRODID:https://www.kufer.de/kuferweb / DE
METHOD:PUBLISH
CALSCALE:GREGORIAN
X-WR-TIMEZONE:Europe/Berlin
BEGIN:VTIMEZONE
TZID:Europe/Berlin
X-LIC-LOCATION:Europe/Berlin
BEGIN:DAYLIGHT
TZOFFSETFROM:+0100
TZOFFSETTO:+0200
TZNAME:CEST
DTSTART:19700329T020000
RRULE:FREQ=YEARLY;INTERVAL=1;BYDAY=-1SU;BYMONTH=3
END:DAYLIGHT
BEGIN:STANDARD
TZOFFSETFROM:+0200
TZOFFSETTO:+0100
TZNAME:CET
DTSTART:19701025T030000
RRULE:FREQ=YEARLY;INTERVAL=1;BYDAY=-1SU;BYMONTH=10
END:STANDARD
END:VTIMEZONE
BEGIN:VEVENT
DTSTAMP:20260422T010348
DTSTART;TZID=Europe/Berlin:20260821T170000
DTEND;TZID=Europe/Berlin:20260821T200000
UID:U44004-20260821T170000@EFBOLDENBURG
SUMMARY:Mappe, Schachtel, Bucheinband - Einführung in die Buchbinderei am Wochenende (U44004) 
LOCATION:Buchbinderei Pappenstil
END:VEVENT
BEGIN:VEVENT
DTSTAMP:20260422T010348
DTSTART;TZID=Europe/Berlin:20260822T100000
DTEND;TZID=Europe/Berlin:20260822T170000
UID:U44004-20260822T100000@EFBOLDENBURG
SUMMARY:Mappe, Schachtel, Bucheinband - Einführung in die Buchbinderei am Wochenende (U44004) 
LOCATION:Buchbinderei Pappenstil
END:VEVENT
BEGIN:VEVENT
DTSTAMP:20260422T010348
DTSTART;TZID=Europe/Berlin:20260823T113000
DTEND;TZID=Europe/Berlin:20260823T153000
UID:U44004-20260823T113000@EFBOLDENBURG
SUMMARY:Mappe, Schachtel, Bucheinband - Einführung in die Buchbinderei am Wochenende (U44004) 
LOCATION:Buchbinderei Pappenstil
END:VEVENT
END:VCALENDAR