BEGIN:VCALENDAR
VERSION:2.0
PRODID:https://www.kufer.de/kuferweb / DE
METHOD:PUBLISH
CALSCALE:GREGORIAN
X-WR-TIMEZONE:Europe/Berlin
BEGIN:VTIMEZONE
TZID:Europe/Berlin
X-LIC-LOCATION:Europe/Berlin
BEGIN:DAYLIGHT
TZOFFSETFROM:+0100
TZOFFSETTO:+0200
TZNAME:CEST
DTSTART:19700329T020000
RRULE:FREQ=YEARLY;INTERVAL=1;BYDAY=-1SU;BYMONTH=3
END:DAYLIGHT
BEGIN:STANDARD
TZOFFSETFROM:+0200
TZOFFSETTO:+0100
TZNAME:CET
DTSTART:19701025T030000
RRULE:FREQ=YEARLY;INTERVAL=1;BYDAY=-1SU;BYMONTH=10
END:STANDARD
END:VTIMEZONE
BEGIN:VEVENT
DTSTAMP:20260421T234905
DTSTART;TZID=Europe/Berlin:20260128T190000
DTEND;TZID=Europe/Berlin:20260128T211500
UID:U44024-20260128T190000@EFBOLDENBURG
SUMMARY:Töpfern an der Scheibe -  Geschirr und Dekoratives (U44024) 
LOCATION:Werkstatt Dammbleiche, Dammbleiche 20, Dammbleiche 20, 26135 Oldenburg
END:VEVENT
BEGIN:VEVENT
DTSTAMP:20260421T234905
DTSTART;TZID=Europe/Berlin:20260204T190000
DTEND;TZID=Europe/Berlin:20260204T211500
UID:U44024-20260204T190000@EFBOLDENBURG
SUMMARY:Töpfern an der Scheibe -  Geschirr und Dekoratives (U44024) 
LOCATION:Werkstatt Dammbleiche, Dammbleiche 20, Dammbleiche 20, 26135 Oldenburg
END:VEVENT
BEGIN:VEVENT
DTSTAMP:20260421T234905
DTSTART;TZID=Europe/Berlin:20260211T190000
DTEND;TZID=Europe/Berlin:20260211T211500
UID:U44024-20260211T190000@EFBOLDENBURG
SUMMARY:Töpfern an der Scheibe -  Geschirr und Dekoratives (U44024) 
LOCATION:Werkstatt Dammbleiche, Dammbleiche 20, Dammbleiche 20, 26135 Oldenburg
END:VEVENT
BEGIN:VEVENT
DTSTAMP:20260421T234905
DTSTART;TZID=Europe/Berlin:20260218T190000
DTEND;TZID=Europe/Berlin:20260218T211500
UID:U44024-20260218T190000@EFBOLDENBURG
SUMMARY:Töpfern an der Scheibe -  Geschirr und Dekoratives (U44024) 
LOCATION:Werkstatt Dammbleiche, Dammbleiche 20, Dammbleiche 20, 26135 Oldenburg
END:VEVENT
BEGIN:VEVENT
DTSTAMP:20260421T234905
DTSTART;TZID=Europe/Berlin:20260225T190000
DTEND;TZID=Europe/Berlin:20260225T211500
UID:U44024-20260225T190000@EFBOLDENBURG
SUMMARY:Töpfern an der Scheibe -  Geschirr und Dekoratives (U44024) 
LOCATION:Werkstatt Dammbleiche, Dammbleiche 20, Dammbleiche 20, 26135 Oldenburg
END:VEVENT
BEGIN:VEVENT
DTSTAMP:20260421T234905
DTSTART;TZID=Europe/Berlin:20260304T190000
DTEND;TZID=Europe/Berlin:20260304T211500
UID:U44024-20260304T190000@EFBOLDENBURG
SUMMARY:Töpfern an der Scheibe -  Geschirr und Dekoratives (U44024) 
LOCATION:Werkstatt Dammbleiche, Dammbleiche 20, Dammbleiche 20, 26135 Oldenburg
END:VEVENT
BEGIN:VEVENT
DTSTAMP:20260421T234905
DTSTART;TZID=Europe/Berlin:20260311T190000
DTEND;TZID=Europe/Berlin:20260311T211500
UID:U44024-20260311T190000@EFBOLDENBURG
SUMMARY:Töpfern an der Scheibe -  Geschirr und Dekoratives (U44024) 
LOCATION:Werkstatt Dammbleiche, Dammbleiche 20, Dammbleiche 20, 26135 Oldenburg
END:VEVENT
END:VCALENDAR