BEGIN:VCALENDAR
VERSION:2.0
PRODID:https://www.kufer.de/kuferweb / DE
METHOD:PUBLISH
CALSCALE:GREGORIAN
X-WR-TIMEZONE:Europe/Berlin
BEGIN:VTIMEZONE
TZID:Europe/Berlin
X-LIC-LOCATION:Europe/Berlin
BEGIN:DAYLIGHT
TZOFFSETFROM:+0100
TZOFFSETTO:+0200
TZNAME:CEST
DTSTART:19700329T020000
RRULE:FREQ=YEARLY;INTERVAL=1;BYDAY=-1SU;BYMONTH=3
END:DAYLIGHT
BEGIN:STANDARD
TZOFFSETFROM:+0200
TZOFFSETTO:+0100
TZNAME:CET
DTSTART:19701025T030000
RRULE:FREQ=YEARLY;INTERVAL=1;BYDAY=-1SU;BYMONTH=10
END:STANDARD
END:VTIMEZONE
BEGIN:VEVENT
DTSTAMP:20260421T234855
DTSTART;TZID=Europe/Berlin:20260923T190000
DTEND;TZID=Europe/Berlin:20260923T211500
UID:U44025-20260923T190000@EFBOLDENBURG
SUMMARY:Töpfern an der Scheibe -  Geschirr und Dekoratives (U44025) 
LOCATION:Werkstatt Dammbleiche, Dammbleiche 20, Dammbleiche 20, 26135 Oldenburg
END:VEVENT
BEGIN:VEVENT
DTSTAMP:20260421T234855
DTSTART;TZID=Europe/Berlin:20260930T190000
DTEND;TZID=Europe/Berlin:20260930T211500
UID:U44025-20260930T190000@EFBOLDENBURG
SUMMARY:Töpfern an der Scheibe -  Geschirr und Dekoratives (U44025) 
LOCATION:Werkstatt Dammbleiche, Dammbleiche 20, Dammbleiche 20, 26135 Oldenburg
END:VEVENT
BEGIN:VEVENT
DTSTAMP:20260421T234855
DTSTART;TZID=Europe/Berlin:20261007T190000
DTEND;TZID=Europe/Berlin:20261007T211500
UID:U44025-20261007T190000@EFBOLDENBURG
SUMMARY:Töpfern an der Scheibe -  Geschirr und Dekoratives (U44025) 
LOCATION:Werkstatt Dammbleiche, Dammbleiche 20, Dammbleiche 20, 26135 Oldenburg
END:VEVENT
BEGIN:VEVENT
DTSTAMP:20260421T234855
DTSTART;TZID=Europe/Berlin:20261028T190000
DTEND;TZID=Europe/Berlin:20261028T211500
UID:U44025-20261028T190000@EFBOLDENBURG
SUMMARY:Töpfern an der Scheibe -  Geschirr und Dekoratives (U44025) 
LOCATION:Werkstatt Dammbleiche, Dammbleiche 20, Dammbleiche 20, 26135 Oldenburg
END:VEVENT
BEGIN:VEVENT
DTSTAMP:20260421T234855
DTSTART;TZID=Europe/Berlin:20261104T190000
DTEND;TZID=Europe/Berlin:20261104T211500
UID:U44025-20261104T190000@EFBOLDENBURG
SUMMARY:Töpfern an der Scheibe -  Geschirr und Dekoratives (U44025) 
LOCATION:Werkstatt Dammbleiche, Dammbleiche 20, Dammbleiche 20, 26135 Oldenburg
END:VEVENT
BEGIN:VEVENT
DTSTAMP:20260421T234855
DTSTART;TZID=Europe/Berlin:20261111T190000
DTEND;TZID=Europe/Berlin:20261111T211500
UID:U44025-20261111T190000@EFBOLDENBURG
SUMMARY:Töpfern an der Scheibe -  Geschirr und Dekoratives (U44025) 
LOCATION:Werkstatt Dammbleiche, Dammbleiche 20, Dammbleiche 20, 26135 Oldenburg
END:VEVENT
BEGIN:VEVENT
DTSTAMP:20260421T234855
DTSTART;TZID=Europe/Berlin:20261118T190000
DTEND;TZID=Europe/Berlin:20261118T211500
UID:U44025-20261118T190000@EFBOLDENBURG
SUMMARY:Töpfern an der Scheibe -  Geschirr und Dekoratives (U44025) 
LOCATION:Werkstatt Dammbleiche, Dammbleiche 20, Dammbleiche 20, 26135 Oldenburg
END:VEVENT
END:VCALENDAR