BEGIN:VCALENDAR
VERSION:2.0
PRODID:https://www.kufer.de/kuferweb / DE
METHOD:PUBLISH
CALSCALE:GREGORIAN
X-WR-TIMEZONE:Europe/Berlin
BEGIN:VTIMEZONE
TZID:Europe/Berlin
X-LIC-LOCATION:Europe/Berlin
BEGIN:DAYLIGHT
TZOFFSETFROM:+0100
TZOFFSETTO:+0200
TZNAME:CEST
DTSTART:19700329T020000
RRULE:FREQ=YEARLY;INTERVAL=1;BYDAY=-1SU;BYMONTH=3
END:DAYLIGHT
BEGIN:STANDARD
TZOFFSETFROM:+0200
TZOFFSETTO:+0100
TZNAME:CET
DTSTART:19701025T030000
RRULE:FREQ=YEARLY;INTERVAL=1;BYDAY=-1SU;BYMONTH=10
END:STANDARD
END:VTIMEZONE
BEGIN:VEVENT
DTSTAMP:20260421T190649
DTSTART;TZID=Europe/Berlin:20270305T090000
DTEND;TZID=Europe/Berlin:20270305T103000
UID:V14027-20270305T090000@EFBOLDENBURG
SUMMARY:DELFI ®  Dezember 2026 geborene Kinder 1.Teil (V14027) 
LOCATION:Ev. Familien-Bildungsstätte, Kinderraum, Gorch-Fock-Str. 5 a, 26135 Oldenburg
END:VEVENT
BEGIN:VEVENT
DTSTAMP:20260421T190649
DTSTART;TZID=Europe/Berlin:20270312T090000
DTEND;TZID=Europe/Berlin:20270312T103000
UID:V14027-20270312T090000@EFBOLDENBURG
SUMMARY:DELFI ®  Dezember 2026 geborene Kinder 1.Teil (V14027) 
LOCATION:Ev. Familien-Bildungsstätte, Kinderraum, Gorch-Fock-Str. 5 a, 26135 Oldenburg
END:VEVENT
BEGIN:VEVENT
DTSTAMP:20260421T190649
DTSTART;TZID=Europe/Berlin:20270319T090000
DTEND;TZID=Europe/Berlin:20270319T103000
UID:V14027-20270319T090000@EFBOLDENBURG
SUMMARY:DELFI ®  Dezember 2026 geborene Kinder 1.Teil (V14027) 
LOCATION:Ev. Familien-Bildungsstätte, Kinderraum, Gorch-Fock-Str. 5 a, 26135 Oldenburg
END:VEVENT
BEGIN:VEVENT
DTSTAMP:20260421T190649
DTSTART;TZID=Europe/Berlin:20270409T090000
DTEND;TZID=Europe/Berlin:20270409T103000
UID:V14027-20270409T090000@EFBOLDENBURG
SUMMARY:DELFI ®  Dezember 2026 geborene Kinder 1.Teil (V14027) 
LOCATION:Ev. Familien-Bildungsstätte, Kinderraum, Gorch-Fock-Str. 5 a, 26135 Oldenburg
END:VEVENT
BEGIN:VEVENT
DTSTAMP:20260421T190649
DTSTART;TZID=Europe/Berlin:20270416T090000
DTEND;TZID=Europe/Berlin:20270416T103000
UID:V14027-20270416T090000@EFBOLDENBURG
SUMMARY:DELFI ®  Dezember 2026 geborene Kinder 1.Teil (V14027) 
LOCATION:Ev. Familien-Bildungsstätte, Kinderraum, Gorch-Fock-Str. 5 a, 26135 Oldenburg
END:VEVENT
BEGIN:VEVENT
DTSTAMP:20260421T190649
DTSTART;TZID=Europe/Berlin:20270423T090000
DTEND;TZID=Europe/Berlin:20270423T103000
UID:V14027-20270423T090000@EFBOLDENBURG
SUMMARY:DELFI ®  Dezember 2026 geborene Kinder 1.Teil (V14027) 
LOCATION:Ev. Familien-Bildungsstätte, Kinderraum, Gorch-Fock-Str. 5 a, 26135 Oldenburg
END:VEVENT
BEGIN:VEVENT
DTSTAMP:20260421T190649
DTSTART;TZID=Europe/Berlin:20270430T090000
DTEND;TZID=Europe/Berlin:20270430T103000
UID:V14027-20270430T090000@EFBOLDENBURG
SUMMARY:DELFI ®  Dezember 2026 geborene Kinder 1.Teil (V14027) 
LOCATION:Ev. Familien-Bildungsstätte, Kinderraum, Gorch-Fock-Str. 5 a, 26135 Oldenburg
END:VEVENT
BEGIN:VEVENT
DTSTAMP:20260421T190649
DTSTART;TZID=Europe/Berlin:20270514T090000
DTEND;TZID=Europe/Berlin:20270514T103000
UID:V14027-20270514T090000@EFBOLDENBURG
SUMMARY:DELFI ®  Dezember 2026 geborene Kinder 1.Teil (V14027) 
LOCATION:Ev. Familien-Bildungsstätte, Kinderraum, Gorch-Fock-Str. 5 a, 26135 Oldenburg
END:VEVENT
BEGIN:VEVENT
DTSTAMP:20260421T190649
DTSTART;TZID=Europe/Berlin:20270521T090000
DTEND;TZID=Europe/Berlin:20270521T103000
UID:V14027-20270521T090000@EFBOLDENBURG
SUMMARY:DELFI ®  Dezember 2026 geborene Kinder 1.Teil (V14027) 
LOCATION:Ev. Familien-Bildungsstätte, Kinderraum, Gorch-Fock-Str. 5 a, 26135 Oldenburg
END:VEVENT
BEGIN:VEVENT
DTSTAMP:20260421T190649
DTSTART;TZID=Europe/Berlin:20270528T090000
DTEND;TZID=Europe/Berlin:20270528T103000
UID:V14027-20270528T090000@EFBOLDENBURG
SUMMARY:DELFI ®  Dezember 2026 geborene Kinder 1.Teil (V14027) 
LOCATION:Ev. Familien-Bildungsstätte, Kinderraum, Gorch-Fock-Str. 5 a, 26135 Oldenburg
END:VEVENT
BEGIN:VEVENT
DTSTAMP:20260421T190649
DTSTART;TZID=Europe/Berlin:20270604T090000
DTEND;TZID=Europe/Berlin:20270604T103000
UID:V14027-20270604T090000@EFBOLDENBURG
SUMMARY:DELFI ®  Dezember 2026 geborene Kinder 1.Teil (V14027) 
LOCATION:Ev. Familien-Bildungsstätte, Kinderraum, Gorch-Fock-Str. 5 a, 26135 Oldenburg
END:VEVENT
BEGIN:VEVENT
DTSTAMP:20260421T190649
DTSTART;TZID=Europe/Berlin:20270611T090000
DTEND;TZID=Europe/Berlin:20270611T103000
UID:V14027-20270611T090000@EFBOLDENBURG
SUMMARY:DELFI ®  Dezember 2026 geborene Kinder 1.Teil (V14027) 
LOCATION:Ev. Familien-Bildungsstätte, Kinderraum, Gorch-Fock-Str. 5 a, 26135 Oldenburg
END:VEVENT
BEGIN:VEVENT
DTSTAMP:20260421T190649
DTSTART;TZID=Europe/Berlin:20270618T090000
DTEND;TZID=Europe/Berlin:20270618T103000
UID:V14027-20270618T090000@EFBOLDENBURG
SUMMARY:DELFI ®  Dezember 2026 geborene Kinder 1.Teil (V14027) 
LOCATION:Ev. Familien-Bildungsstätte, Kinderraum, Gorch-Fock-Str. 5 a, 26135 Oldenburg
END:VEVENT
BEGIN:VEVENT
DTSTAMP:20260421T190649
DTSTART;TZID=Europe/Berlin:20270625T090000
DTEND;TZID=Europe/Berlin:20270625T103000
UID:V14027-20270625T090000@EFBOLDENBURG
SUMMARY:DELFI ®  Dezember 2026 geborene Kinder 1.Teil (V14027) 
LOCATION:Ev. Familien-Bildungsstätte, Kinderraum, Gorch-Fock-Str. 5 a, 26135 Oldenburg
END:VEVENT
BEGIN:VEVENT
DTSTAMP:20260421T190649
DTSTART;TZID=Europe/Berlin:20270702T090000
DTEND;TZID=Europe/Berlin:20270702T103000
UID:V14027-20270702T090000@EFBOLDENBURG
SUMMARY:DELFI ®  Dezember 2026 geborene Kinder 1.Teil (V14027) 
LOCATION:Ev. Familien-Bildungsstätte, Kinderraum, Gorch-Fock-Str. 5 a, 26135 Oldenburg
END:VEVENT
END:VCALENDAR